BEGIN:VCALENDAR
VERSION:2.0
PRODID:-//ChamberMaster//Event Calendar 2.0//EN
METHOD:PUBLISH
X-PUBLISHED-TTL:P3D
REFRESH-INTERVAL:P3D
CALSCALE:GREGORIAN
BEGIN:VEVENT
DTSTART:20200225T150000Z
DTEND:20200225T200000Z
X-MICROSOFT-CDO-ALLDAYEVENT:FALSE
SUMMARY:Join us by rolling up your sleeve!!
DESCRIPTION:Join us by rolling up your sleeve for our Suddenlink Blood Drive!\n\nSaving lives in our community with blood donations!\n\n\n\nThe Blood Connection blood mobile will be set up at Suddenlink\, 2120 W. Arlington Blvd\, Greenville\n\nTuesday\, February 25 from 10AM   3PM \n\n \n\nDon't delay\, sign up today!\n\nReserve your spot by clicking the link below\n\nhttps://donate.thebloodconnection.org/donor/schedules/drive_schedule/141300\n\n\n\nAll donors will receive a $20 Gift Card!
X-ALT-DESC;FMTTYPE=text/html:<span style="font-size:14px"><strong><span style="color:#262626"><span style="font-family:helvetica\,sans-serif">Join us by rolling up your sleeve for our Suddenlink Blood Drive!<br />\nSaving lives in our community with blood donations!</span></span></strong></span><br />\n<br />\n<span style="font-size:14px"><span style="color:#262626"><span style="font-family:helvetica\,sans-serif">The Blood Connection blood mobile will be set up at Suddenlink\, 2120 W. Arlington Blvd\, Greenville</span></span><br />\n<strong><span style="color:red"><span style="font-family:helvetica\,sans-serif">Tuesday\, February 25 from&nbsp\;10AM &ndash\; 3PM </span></span></strong><br />\n&nbsp\;<br />\n<strong><em><span style="color:#333333"><span style="font-family:helvetica\,sans-serif">Don&rsquo\;t delay\, sign up today!</span></span></em></strong><br />\n<strong><em><span style="color:#333333"><span style="font-family:helvetica\,sans-serif">Reserve your spot by clicking the link below</span></span></em></strong><br />\n<a href="https://urldefense.proofpoint.com/v2/url?u=https-3A__donate.thebloodconnection.org_donor_schedules_drive-5Fschedule_141300&amp\;d=DwMFAg&amp\;c=j5qhuXVFDG9qAPVzJdE5nsirLGtagR5tRVwNBd9MNeo&amp\;r=rW6Co7pgOEdKQV_XktWcU-Dq2D9JbFYsIk7qdjwg-8c&amp\;m=UmCmyqSbpovlv93M9mQr1NBGH5fQUJ__mqvwcYmZvG0&amp\;s=mZ3rtJt1xFIQglWfyZAPjjTN2gk7VFqmjJnxN3sM6xQ&amp\;e=">https://donate.thebloodconnection.org/donor/schedules/drive_schedule/141300</a><br />\n<br />\n<strong><u><span style="color:red"><span style="font-family:helvetica\,sans-serif">All donors will receive a $20 Gift Card!</span></span></u></strong></span><br />\n&nbsp\;
LOCATION:Suddenlink 2120 W. Arlington Blvd Greenville
UID:e.840.10992
SEQUENCE:3
DTSTAMP:20260420T030611Z
URL:https://business.greenvillenc.org/events/details/join-us-by-rolling-up-your-sleeve-10992
END:VEVENT

END:VCALENDAR
