BEGIN:VCALENDAR
VERSION:2.0
PRODID:-//ChamberMaster//Event Calendar 2.0//EN
METHOD:PUBLISH
X-PUBLISHED-TTL:P3D
REFRESH-INTERVAL:P3D
CALSCALE:GREGORIAN
BEGIN:VEVENT
DTSTART:20170427T150000Z
DTEND:20170427T170000Z
X-MICROSOFT-CDO-ALLDAYEVENT:FALSE
SUMMARY:Join the WEBolution!
DESCRIPTION:Discover how to get your business found online.\n\nLearn the importance of search engine optimization.\n\nMaster the art of marketing your local business on the web.\n\nDevelop your business.\n\nGet more customers.\n\n\n\nJoin the WEBolution with Two Oceans Digital\, a digital marketing company with over 20 years of real experience. Enjoy a meal while we go over how digital marketing can help your business\, and ask us questions. We want to help your business flourish\, and are offering you the tools to get started at our events. Just for coming\, all guests will be entered to win our grand prize giveaways - valued at over $700!\n\n\n\nWe are here to help!\n\n\n\n*Complimentary meal provided
X-ALT-DESC;FMTTYPE=text/html:<span style="color:rgb(75\, 79\, 86)\; font-family:helvetica\,arial\,sans-serif\; font-size:14px">Discover how to get your business found online.</span><br />\n<span style="color:rgb(75\, 79\, 86)\; font-family:helvetica\,arial\,sans-serif\; font-size:14px">Learn the importance of search engine optimization.</span><br />\n<span style="color:rgb(75\, 79\, 86)\; font-family:helvetica\,arial\,sans-serif\; font-size:14px">Master the art of marketing your local business on the web.</span><br />\n<span style="color:rgb(75\, 79\, 86)\; font-family:helvetica\,arial\,sans-serif\; font-size:14px">Develop your business.</span><br />\n<span style="color:rgb(75\, 79\, 86)\; font-family:helvetica\,arial\,sans-serif\; font-size:14px">Get more customers.</span><br />\n<br />\n<span style="color:rgb(75\, 79\, 86)\; font-family:helvetica\,arial\,sans-serif\; font-size:14px">Join the WEBolution with Two Oceans Digital\, a digital marketing company with over 20 years of real experience. Enjoy a meal while we go over how digital marketing can help your business\, and ask us questions. We want to help your business flourish\, and are offering you the tools to get started at our events. Just for coming\, all guests will be entered to win our grand prize giveaways - valued at over $700!</span><br />\n<br />\n<span style="color:rgb(75\, 79\, 86)\; font-family:helvetica\,arial\,sans-serif\; font-size:14px">We are here to help!<br />\n<br />\n*Complimentary meal provided</span><br />\n&nbsp\;
LOCATION:Greenville Museum of Art Commons Gallery
UID:e.840.8082
SEQUENCE:3
DTSTAMP:20260423T164139Z
URL:https://business.greenvillenc.org/events/details/join-the-webolution-8082
END:VEVENT

END:VCALENDAR
