BEGIN:VCALENDAR
VERSION:2.0
PRODID:-//ChamberMaster//Event Calendar 2.0//EN
METHOD:PUBLISH
X-PUBLISHED-TTL:P3D
REFRESH-INTERVAL:P3D
CALSCALE:GREGORIAN
BEGIN:VEVENT
DTSTART;VALUE=DATE:20170114
DTEND;VALUE=DATE:20170116
TRANSP:TRANSPARENT
X-MICROSOFT-CDO-ALLDAYEVENT:TRUE
SUMMARY:Join & Save
DESCRIPTION:New Sam's Savings or New Business Members will receive a $25.00 gift card on site  and the Instant Savings will automatically load within 14 days .\n\n \n\nThe Memberships are $45.00 to receive the $25. gift card .\n\n \n\nNew Business Members will also recevie a FREE UPGRADE TO THE PLUS MEMBERSHIP and start earning money to shop right away . See Associate for details .\n\n \n\nBring the attached flyer to the membership desk to sign up .
X-ALT-DESC;FMTTYPE=text/html:New Sam&#39\;s Savings or New Business Members will receive a $25.00 gift card on site&nbsp\; and the Instant Savings will automatically load within 14 days .<br />\n&nbsp\;<br />\nThe Memberships are $45.00 to receive the $25. gift card .<br />\n&nbsp\;<br />\nNew Business Members will also recevie a FREE UPGRADE TO THE PLUS MEMBERSHIP and start earning money to shop right away . See Associate for details .<br />\n&nbsp\;<br />\nBring the attached flyer to the membership desk to sign up .
LOCATION:Sam's Club in Winterville\, NC 4240 Winterville Parkway Winterville\, NC 285904296
UID:e.840.7782
SEQUENCE:3
DTSTAMP:20260423T204350Z
URL:https://business.greenvillenc.org/events/details/join-save-7782
END:VEVENT

END:VCALENDAR
