BEGIN:VCALENDAR
VERSION:2.0
PRODID:-//ChamberMaster//Event Calendar 2.0//EN
METHOD:PUBLISH
X-PUBLISHED-TTL:P3D
REFRESH-INTERVAL:P3D
CALSCALE:GREGORIAN
BEGIN:VEVENT
DTSTART:20180215T233000Z
DTEND:20180216T013000Z
X-MICROSOFT-CDO-ALLDAYEVENT:FALSE
SUMMARY:John Paul II Catholic High School Open House
DESCRIPTION:Parents and students are invited to visit John Paul II Catholic High School on Thursday\, February 15 at 6:30 p.m. for our Open House. JPII offers a rigorous academic program\, focused on educating the whole student: body\, mind\, and soul. We're looking forward to building on our recent growth and expanding facilities at our home on 14th Street. Come see everything JPII has to offer and explore the most affordable\, highest-quality high school education in Greenville.\nINCLUSIVE ENVIRONMENT\n\n\n	Students from all faiths and beliefs are welcome at JPII\n	5:1 student-to-faculty ratio allows personal guidance\n	Unique campus offerings suit a diverse student population\n\n\nRIGOROUS ACADEMIC PROGRAM\n\n\n	We educate well-rounded students\, educating the mind\, body\, and spirit\n	Students are taught via the Socratic method\, encouraging critical thinking and problem-solving\n	State-of-the-art science lab provides students with hands-on experiences\n\n\nAFFORDABLE PREMIUM EDUCATION\n\n\n	The region's most financially-accessible private high school\n	Tuition assistance available for those who qualify\n	Numerous field trips and experiential learning opportunities are covered in the cost of tuition\n\n\n100% COLLEGE ACCEPTANCE\n\n\n	Graduates earn an average of $50\,000 per student in scholarships\n	One-on-one college guidance begins in 9th grade\n	Senior Thesis and internship programs prepare students for the rigors of college
X-ALT-DESC;FMTTYPE=text/html:Parents and students are invited to visit John Paul II Catholic High School on&nbsp\;<strong>Thursday\, February 15 at 6:30 p.m.</strong>&nbsp\;for our Open House. JPII&nbsp\;offers a rigorous academic program\, focused on educating the whole student: body\, mind\, and soul. We&#39\;re&nbsp\;looking forward to building on our recent growth and expanding facilities at our home on 14th Street.&nbsp\;Come see everything JPII has to offer and explore the most affordable\, highest-quality high school education in Greenville.\n<p><span style="font-size:16px"><strong>INCLUSIVE ENVIRONMENT</strong></span></p>\n\n<ul>\n	<li>Students from all faiths and beliefs are welcome at JPII</li>\n	<li>5:1 student-to-faculty ratio allows personal guidance</li>\n	<li>Unique campus offerings suit a diverse student population</li>\n</ul>\n\n<p><span style="font-size:16px"><strong>RIGOROUS ACADEMIC PROGRAM</strong></span></p>\n\n<ul>\n	<li>We educate well-rounded students\, educating the mind\, body\, and spirit</li>\n	<li>Students are taught via the Socratic method\, encouraging critical thinking and problem-solving</li>\n	<li>State-of-the-art science lab provides students with hands-on experiences</li>\n</ul>\n\n<p><span style="font-size:16px"><strong>AFFORDABLE PREMIUM EDUCATION</strong></span></p>\n\n<ul>\n	<li>The region&rsquo\;s most financially-accessible private high school</li>\n	<li>Tuition assistance available for those who qualify</li>\n	<li>Numerous field trips and experiential learning opportunities are covered in the cost of tuition</li>\n</ul>\n\n<p><span style="font-size:16px"><strong>100% COLLEGE ACCEPTANCE</strong></span></p>\n\n<ul>\n	<li>Graduates earn an average of $50\,000 per student in scholarships</li>\n	<li>One-on-one college guidance begins in 9th grade</li>\n	<li>Senior Thesis and internship programs prepare students for the rigors of college</li>\n</ul>\n
LOCATION:John Paul II Catholic High School 2725 E. 14th Street Greenville\, NC 27858
UID:e.840.8695
SEQUENCE:3
DTSTAMP:20260423T015523Z
URL:https://business.greenvillenc.org/events/details/john-paul-ii-catholic-high-school-open-house-8695
END:VEVENT

END:VCALENDAR
