BEGIN:VCALENDAR
VERSION:2.0
PRODID:-//ChamberMaster//Event Calendar 2.0//EN
METHOD:PUBLISH
X-PUBLISHED-TTL:P3D
REFRESH-INTERVAL:P3D
CALSCALE:GREGORIAN
BEGIN:VEVENT
DTSTART:20190407T180000Z
DTEND:20190407T200000Z
X-MICROSOFT-CDO-ALLDAYEVENT:FALSE
SUMMARY:John Paul II Catholic High School Open House
DESCRIPTION:Come explore Pitt County's fastest-growing private high school!\n\nParents and students are invited to visit John Paul II Catholic High School on Sunday\, April 7 from 2:00-4:00 p.m. for our Open House. JPII offers a rigorous academic program focused on educating the whole student: mind\, body\, and spirit. \n\n\n\nInclusive Environment\n\n	Students from all faiths and beliefs are welcome at JPII\n	5:1 student-to-faculty ratio allows personal guidance\n	Unique campus offerings suit a diverse student population\n\nRigorous Academic Program\n\n\n	We educate well-rounded students\, educating the mind\, body\, and spirit\n	Students are taught via the Socratic method\, encouraging critical thinking and problem-solving\n	State-of-the-art science lab provides students with hands-on experiences\n\nCollege Prep\n\n\n	100% of graduates have been accepted to college\; 97% have been accepted by their first school of choice\n	One-on-one college guidance begins in 9th grade\n	Senior Thesis and internship programs prepare students for the rigors of college\n	ACT and SAT prep classes held twice a week\n	2018 graduates:\n	\n		earned an average of $50\,000 per student in scholarships\n		scored 60 points above the national average on the SAT\n		scored above the state ACT composite average\n	\n	\n\nAffordable Premium Education\n\n\n	One of the region's most financially-accessible private high schools\n	Tuition assistance available for those who qualify\n	Numerous field trips and experiential learning opportunities
X-ALT-DESC;FMTTYPE=text/html:<span style="font-family:arial\,helvetica\,sans-serif"><em><strong>Come explore Pitt County&#39\;s fastest-growing private high school!</strong></em><br />\n<span style="color:rgb(0\, 0\, 0)\; font-size:14px">Parents and students are invited to visit John Paul II Catholic High School on&nbsp\;</span><strong>Sunday\, April 7 from 2:00-4:00 p.m.</strong><span style="color:rgb(0\, 0\, 0)\; font-size:14px">&nbsp\;for our Open House. JPII&nbsp\;offers a rigorous academic program focused on educating the whole student: mind\, body\, and spirit.&nbsp\;</span></span><br />\n<br />\n<strong>Inclusive Environment</strong>\n<ul>\n	<li>Students from all faiths and beliefs are welcome at JPII</li>\n	<li>5:1 student-to-faculty ratio allows personal guidance</li>\n	<li>Unique campus offerings suit a diverse student population</li>\n</ul>\n<strong>Rigorous Academic Program</strong>\n\n<ul>\n	<li>We educate well-rounded students\, educating the mind\, body\, and spirit</li>\n	<li>Students are taught via the Socratic method\, encouraging critical thinking and problem-solving</li>\n	<li>State-of-the-art science lab provides students with hands-on experiences</li>\n</ul>\n<strong>College Prep</strong>\n\n<ul>\n	<li>100% of graduates have been accepted to college\;&nbsp\;97% have been accepted by their first school of choice</li>\n	<li>One-on-one college guidance begins in 9th grade</li>\n	<li>Senior Thesis and internship programs prepare students for the rigors of college</li>\n	<li>ACT and SAT prep classes held twice a week</li>\n	<li>2018 graduates:\n	<ul>\n		<li>earned an average of $50\,000 per student in scholarships</li>\n		<li>scored 60 points above the national average on the SAT</li>\n		<li>scored above the state ACT composite average</li>\n	</ul>\n	</li>\n</ul>\n<strong>Affordable Premium Education</strong>\n\n<ul>\n	<li>One of the region&rsquo\;s most financially-accessible private high schools</li>\n	<li>Tuition assistance available for those who qualify</li>\n	<li>Numerous field trips and experiential learning opportunities</li>\n</ul>\n
LOCATION:John Paul II Catholic High School 2725 E. 14th Street Greenville\, NC 27858
UID:e.840.9768
SEQUENCE:3
DTSTAMP:20260420T175908Z
URL:https://business.greenvillenc.org/events/details/john-paul-ii-catholic-high-school-open-house-04-07-2019-9768
END:VEVENT

END:VCALENDAR
