BEGIN:VCALENDAR
VERSION:2.0
PRODID:-//ChamberMaster//Event Calendar 2.0//EN
METHOD:PUBLISH
X-PUBLISHED-TTL:P3D
REFRESH-INTERVAL:P3D
CALSCALE:GREGORIAN
BEGIN:VEVENT
DTSTART:20160227T220000Z
DTEND:20160228T040000Z
X-MICROSOFT-CDO-ALLDAYEVENT:FALSE
SUMMARY:John Paul II Catholic High School March Wth The Saints
DESCRIPTION:John Paul II Catholic High School is planning the March With The Saints event at the Hilton on February 27\, 2016 beginning with a social hour at 5:00 pm. There are many different activities taking place in which local restuarants and businesses are providing items for the Dine Around Tree\, All in the Cards and a silent and voice auction. Heather King from WITN\, will be our Mistress of Ceremony and Billy Clark is auctioneer\, Carroll Dashiell\, proformer and pruducer on more then 25 national and international recordings is providing entertainment. He is well known in Eastern North Carolina as well as around the nation. "You'll have fun\, we promise!" stated Janice Scholtz\, co-chair with Mary Newton. Go to www.MarchWithTheSaints.com for more information regarding tickets or sponsorship opportunities.
X-ALT-DESC;FMTTYPE=text/html:John Paul II Catholic High School is planning the March With The Saints event at the Hilton on February 27\, 2016 beginning with a social hour at 5:00 pm. There are many different activities taking place in which local restuarants and businesses are providing items for the Dine Around Tree\, All in the Cards and a silent and voice auction. Heather King from WITN\, will be our Mistress of Ceremony and Billy Clark is auctioneer\, Carroll Dashiell\, proformer and pruducer on more then 25 national and international recordings is providing entertainment. He is well known in Eastern North Carolina as well as around the nation. &quot\;You&#39\;ll have fun\, we promise!&quot\; stated Janice Scholtz\, co-chair with Mary Newton. Go to <a href="http://www.MarchWithTheSaints.com">www.MarchWithTheSaints.com</a> for more information regarding tickets or sponsorship opportunities.
LOCATION:Hilton Greenville
UID:e.840.2453
SEQUENCE:3
DTSTAMP:20260424T133543Z
URL:https://business.greenvillenc.org/events/details/john-paul-ii-catholic-high-school-march-wth-the-saints-02-27-2016-2453
END:VEVENT

END:VCALENDAR
