BEGIN:VCALENDAR
VERSION:2.0
PRODID:-//ChamberMaster//Event Calendar 2.0//EN
METHOD:PUBLISH
X-PUBLISHED-TTL:P3D
REFRESH-INTERVAL:P3D
CALSCALE:GREGORIAN
BEGIN:VEVENT
DTSTART:20171014T000000Z
DTEND:20171014T035500Z
X-MICROSOFT-CDO-ALLDAYEVENT:FALSE
SUMMARY:Jewels and Ghouls: Featuring Trainwreck and the Carolina Treat Band
DESCRIPTION:Get your tickets to the premiere Halloween Event in Eastern Carolina.\n\n\n\nJewels and Ghouls is a concert benefiting the community programs of Mental Health America of Eastern Carolina. Come dance the night away with the award-winning band Trainwreck and the phenomenal Carolina Treat Band. The party starts at 8:00 p.m. and doors open at 7:30 p.m. Cash bar will be available. \n\n\n\nGet your raffle tickets at the event for a chance to win a host of prizes\, including a beautiful diamond ring provided by Robinson's Jewelers\, valued at over $4\,200! \n\n\n\nWear your best costume and enter the contest for a chance to win over $250 in prizes!\n\n\n\nDon't forget to check out the silent auction at the event to bid on local business items and sports memorabilia! \n\n\n\nPresenting Sponsors: \n\nRobinson's Jewelers | Halloween Express | Holiday Inn | WRNS 95.1 | BOB 93.3
X-ALT-DESC;FMTTYPE=text/html:<span style="color:rgb(75\, 79\, 86)\; font-family:sf optimized\,system-ui\,-apple-system\,blinkmacsystemfont\,.sfnstext-regular\,sans-serif\; font-size:14px">Get your tickets to the premiere Halloween Event in Eastern Carolina.</span><br />\n<br />\n<span style="color:rgb(75\, 79\, 86)\; font-family:sf optimized\,system-ui\,-apple-system\,blinkmacsystemfont\,.sfnstext-regular\,sans-serif\; font-size:14px">Jewels and Ghouls is a concert benefiting the community programs of Mental Health America of Eastern Carolina. Come dance the night away with the award-winning band Trainwreck and the phenomenal Carolina Treat Band. The party starts at 8:00 p.m. and doors open at 7:30 p.m. Cash bar will be available.&nbsp\;</span><br />\n<br />\n<span style="color:rgb(75\, 79\, 86)\; font-family:sf optimized\,system-ui\,-apple-system\,blinkmacsystemfont\,.sfnstext-regular\,sans-serif\; font-size:14px">Get your raffle tickets at the event for a chance to win a host of prizes\, including a beautiful diamond ring provided by Robinson&#39\;s Jewelers\, valued at over $4\,200!&nbsp\;</span><br />\n<br />\n<span style="color:rgb(75\, 79\, 86)\; font-family:sf optimized\,system-ui\,-apple-system\,blinkmacsystemfont\,.sfnstext-regular\,sans-serif\; font-size:14px">Wear your best costume and enter the contest for a chance to win over $250 in prizes!</span><br />\n<br />\n<span style="color:rgb(75\, 79\, 86)\; font-family:sf optimized\,system-ui\,-apple-system\,blinkmacsystemfont\,.sfnstext-regular\,sans-serif\; font-size:14px">Don&#39\;t forget to check out the silent auction at the event to bid on local business items and sports memorabilia!&nbsp\;</span><br />\n<br />\n<span style="color:rgb(75\, 79\, 86)\; font-family:sf optimized\,system-ui\,-apple-system\,blinkmacsystemfont\,.sfnstext-regular\,sans-serif\; font-size:14px">Presenting Sponsors:&nbsp\;</span><br />\n<span style="color:rgb(75\, 79\, 86)\; font-family:sf optimized\,system-ui\,-apple-system\,blinkmacsystemfont\,.sfnstext-regular\,sans-serif\; font-size:14px">Robinson&#39\;s Jewelers | Halloween Express | Holiday Inn | WRNS 95.1 | BOB 93.3</span>
LOCATION:Holiday Inn\, Greenville 203 Greenville Blvd\, SW. Greenville\, NC 27834
UID:e.840.8647
SEQUENCE:3
DTSTAMP:20260423T080612Z
URL:https://business.greenvillenc.org/events/details/jewels-and-ghouls-featuring-trainwreck-and-the-carolina-treat-band-8647
END:VEVENT

END:VCALENDAR
