BEGIN:VCALENDAR
VERSION:2.0
PRODID:-//ChamberMaster//Event Calendar 2.0//EN
METHOD:PUBLISH
X-PUBLISHED-TTL:P3D
REFRESH-INTERVAL:P3D
CALSCALE:GREGORIAN
BEGIN:VEVENT
DTSTART;VALUE=DATE:20190412
DTEND;VALUE=DATE:20190415
TRANSP:TRANSPARENT
X-MICROSOFT-CDO-ALLDAYEVENT:TRUE
SUMMARY:Jenni K Handcrafted Jewelry - Come Shop With Us At the Southern Womens Show!
DESCRIPTION:Be sure to visit our Jenni K booth at the Southern Women's Show in Raleigh at the State Fairgrounds April 12-14th!\n\n\n\nFor more info visit: https://southernshows.com/wra
X-ALT-DESC;FMTTYPE=text/html:Be sure to visit our Jenni K booth at the Southern Women&#39\;s Show in Raleigh at the State Fairgrounds April 12-14th!<br />\n<br />\nFor more info visit:&nbsp\;https://southernshows.com/wra&nbsp\;
LOCATION:North Carolina State Fairgrounds
UID:e.840.10041
SEQUENCE:3
DTSTAMP:20260420T180852Z
URL:https://business.greenvillenc.org/events/details/jenni-k-handcrafted-jewelry-come-shop-with-us-at-the-southern-womens-show-10041
END:VEVENT

END:VCALENDAR
