BEGIN:VCALENDAR
VERSION:2.0
PRODID:-//ChamberMaster//Event Calendar 2.0//EN
METHOD:PUBLISH
X-PUBLISHED-TTL:P3D
REFRESH-INTERVAL:P3D
CALSCALE:GREGORIAN
BEGIN:VEVENT
DTSTART:20170802T220000Z
DTEND:20170803T000000Z
X-MICROSOFT-CDO-ALLDAYEVENT:FALSE
SUMMARY:Jenni K benefit sale for Riley's Army
DESCRIPTION:You are invited to a special event benefiting Riley's Army\n\n\n\nFeaturing a newly released special butterfly. Be the first to shop at the annual half price sale. 10% of every purchase will be donated to Riley's Army.\n\n\n\nLight refreshments will be served.\nAugust 2nd 2017\n\n6-8pm\n\n\n727 Red Banks Rd\, Greenville \n\n\n\nHope to see you there.
X-ALT-DESC;FMTTYPE=text/html:You are invited to a special event benefiting Riley&#39\;s Army<br />\n<br />\nFeaturing a newly released special butterfly. Be the first to shop at the annual half price sale. 10% of every purchase will be donated to Riley&#39\;s Army.<br />\n<br />\nLight refreshments will be served.\n<div style="text-align: center\;"><span style="font-size:18px"><strong>August 2nd 2017<br />\n6-8pm</strong></span></div>\n<br />\n727 Red Banks Rd\, Greenville&nbsp\;<br />\n<br />\nHope to see you there.
LOCATION:Jenni K 727 Red Banks Rd Greenville
UID:e.840.8635
SEQUENCE:3
DTSTAMP:20260423T105018Z
URL:https://business.greenvillenc.org/events/details/jenni-k-benefit-sale-for-riley-s-army-8635
END:VEVENT

END:VCALENDAR
