BEGIN:VCALENDAR
VERSION:2.0
PRODID:-//ChamberMaster//Event Calendar 2.0//EN
METHOD:PUBLISH
X-PUBLISHED-TTL:P3D
REFRESH-INTERVAL:P3D
CALSCALE:GREGORIAN
BEGIN:VEVENT
DTSTART:20180730T220000Z
DTEND:20180731T000000Z
X-MICROSOFT-CDO-ALLDAYEVENT:FALSE
SUMMARY:Jenni K Benefit Sale for Riley's Army
DESCRIPTION:July 30th- 6-8pm  Jenni K Jewelry Private Benefit Sale for Riley's Army- Jenni K Jewelry has created the Riley Butterfly.  You may be the first to shop during their annual half off sale.  Jump start on your Christmas List! 10% of all jewelry sales will be donated to Riley's Army.  Light refreshments will be served.\n\nFor More Info
X-ALT-DESC;FMTTYPE=text/html:<p><strong><span style="color:rgb(55\, 55\, 55)\; font-size:12pt">July 30<sup>th</sup>- 6-8pm&nbsp\; Jenni K Jewelry Private Benefit Sale for Riley&rsquo\;s Army- Jenni K Jewelry </span></strong><span style="color:rgb(55\, 55\, 55)\; font-size:12pt">has<strong> </strong></span>created the Riley Butterfly.&nbsp\; You may be the first to shop during their annual half off sale.&nbsp\; Jump start on your Christmas List! 10% of all jewelry sales will be donated to Riley&rsquo\;s Army.&nbsp\; Light refreshments will be served.<br />\n<a href="http://rileysarmy.com/event/jenni-k-benefit-sale/">For More Info</a><br />\n<br />\n&nbsp\;</p>\n
LOCATION:Jenni K in Arlington Village
UID:e.840.8903
SEQUENCE:3
DTSTAMP:20260421T062131Z
URL:https://business.greenvillenc.org/events/details/jenni-k-benefit-sale-for-riley-s-army-07-30-2018-8903
END:VEVENT

END:VCALENDAR
