BEGIN:VCALENDAR
VERSION:2.0
PRODID:-//ChamberMaster//Event Calendar 2.0//EN
METHOD:PUBLISH
X-PUBLISHED-TTL:P3D
REFRESH-INTERVAL:P3D
CALSCALE:GREGORIAN
BEGIN:VEVENT
DTSTART:20191107T140000Z
DTEND:20191110T220000Z
X-MICROSOFT-CDO-ALLDAYEVENT:FALSE
SUMMARY:Jenni K at the Holly Day Fair
DESCRIPTION:Come Visit Jenni K Jewelry \n\n			in Fayetteville\, NC\n			\n\n			For more information\, please visit http://www.hollydayfair.com/\n\n			\n\n			"Super Shopper" Hours Thursday\, November 7th 9:00 am to noon\n\n			\n\n			Regular Hours:\n\n			Thursday\, November 7th 12:01 pm to 8:00 pm\n\n			Friday\, November 8th 9:00 am to 8:00 pm\n\n			Saturday\, November 9th 9:00 am to 8:00 pm\n\n			Sunday\, November 10th 11:00 am to 5:00 pm\n\n			\n\n			\n\n			Special Discount for Shoppers\n\n			\n\n			*Baby K jewelry not included*
X-ALT-DESC;FMTTYPE=text/html:<table align="right" border="0" cellpadding="0" cellspacing="0" style="width:100.0%\;background:crimson\;border-collapse:collapse\;margin-left:-2.25pt\;margin-right:-2.25pt\;" width="100%">\n	<tbody>\n		<tr>\n			<td style="width:528px\;padding:6.75pt 13.5pt 6.75pt 13.5pt\;vertical-align:top\;">\n			<div style="text-align: center\;">&nbsp\;</div>\n\n			<h1 style="margin-bottom: 0.0001pt\; text-align: center\;"><span style="letter-spacing:-.75pt\;"><span style="color:white\;"><span style="font-family:georgia\,serif\;"><span style="font-size:26.5pt\;">Come Visit Jenni K Jewelry&nbsp\;</span></span></span></span></h1>\n\n			<div style="text-align: center\;"><strong><span style="color:white\;"><span style="font-family:helvetica\,sans-serif\;"><span style="font-size:16.5pt\;">in Fayetteville\, NC</span></span></span></strong></div>\n			<br />\n			<strong><span style="color:white\;"><span style="font-family:helvetica\,sans-serif\;"><span style="font-size:11.5pt\;">For more information\, please visit&nbsp\;<a href="https://JenniK.us5.list-manage.com/track/click?u=97b5a173144640e3918a4d0b2&amp\;id=ccb99f1713&amp\;e=b8bd98a63c" style="-ms-text-size-adjust:100%\;-webkit-text-size-adjust:100%\;" target="_blank"><span style="font-weight:normal\;"><span style="color:white\;">http://www.hollydayfair.com/</span></span></a></span></span></span></strong><br />\n			<br />\n			<strong><span style="color:white\;"><span style="font-family:helvetica\,sans-serif\;"><span style="font-size:11.5pt\;">&quot\;Super Shopper&quot\; Hours Thursday\, November 7th 9:00 am to noon</span></span></span></strong><br />\n			<br />\n			<strong><span style="color:white\;"><span style="font-family:helvetica\,sans-serif\;"><span style="font-size:12.0pt\;"><u>Regular Hours:</u><br />\n			Thursday\, November 7th 12:01 pm to 8:00 pm<br />\n			Friday\, November 8th 9:00 am to 8:00 pm<br />\n			Saturday\, November 9th 9:00 am to 8:00 pm<br />\n			Sunday\, November 10th 11:00 am to 5:00 pm</span></span></span></strong><br />\n			<br />\n			<br />\n			<strong><span style="color:white\;"><span style="font-family:helvetica\,sans-serif\;"><span style="font-size:18.0pt\;">Special Discount for Shoppers</span></span></span></strong><br />\n			<br />\n			<strong><span style="color:white\;"><span style="font-family:helvetica\,sans-serif\;"><span style="font-size:12.0pt\;">*Baby K jewelry not included*<br />\n			<br />\n			&nbsp\; </span></span></span></strong></td>\n		</tr>\n	</tbody>\n</table>\n
LOCATION:Fayetteville\, NC
UID:e.840.10934
SEQUENCE:3
DTSTAMP:20260420T074926Z
URL:https://business.greenvillenc.org/events/details/jenni-k-at-the-holly-day-fair-10934
END:VEVENT

END:VCALENDAR
