BEGIN:VCALENDAR
VERSION:2.0
PRODID:-//ChamberMaster//Event Calendar 2.0//EN
METHOD:PUBLISH
X-PUBLISHED-TTL:P3D
REFRESH-INTERVAL:P3D
CALSCALE:GREGORIAN
BEGIN:VEVENT
DTSTART:20181014T190000Z
DTEND:20181015T000000Z
X-MICROSOFT-CDO-ALLDAYEVENT:FALSE
SUMMARY:Jazz in the Park
DESCRIPTION:(Greenville\, NC) Koinonia Christian Center Church invites all of Pitt County and surrounding communities to enjoy an afternoon of relaxing music on Sunday\, October 14\, 2018at the Greenville Toyota Amphitheater on the Greenville Town Commons\, 105 E. 1st St\, Greenville\, NC 27858. The event will be held from 3pm   8pmand admission is free!\n\nHeadlining the event is saxophonist\, Adrian Crutchfield. Known as the last sax player to perform and record with Prince (2012-2016)\, Adrian is featured on many of Prince's final masterpieces. His high energy show brings a diversity to jazz never seen before with music for every generation! Adrian has also had the privilege of performing with such names as Bette Midler\, R&B icon Anthony Hamilton\, Fantasia Barrino and hip hop superstar Young Jeezy.In jazz\, Mr. Crutchfield has been featured by names such Mike Phillips\, Jeff Lorber\, and Branford Marsalis\; and with legendary group\, The Gap Band featuring Charlie Wilson. He will be accompanied by Limited Edition\; best known as the band to saxophonist\, Marcus Anderson\, who will also serve as the event's house band.\n\n \n\nEvent attendees will also enjoy performances from ECU's own and world-renowned musician\, Dr. Carroll Dashiell\, Pitt Community College instructor and Music Academy of Eastern Carolina co-founder\, Mr. Michael Stephenson\, along with Carolina Sound of Raleigh\, community favorites\, Kruz Band and Ruffin Keys\, Rob LaRay of New York\, and Bertrand Bailey Jr. of Louisiana.\n\nFood and merchandise vendors will be available and they'll be plenty of room to dance!\n\nTo become an official Jazz in the Park Vendor - Visit the links below!\n\nMerchandise Vendors Click Here\n\nFood Vendors Click Here\n\nThis event is for all who enjoy good music\, good food\, and good fun. So\, mark your calendars\, save the date and plan to meet Bishop Rosie S. O'neal and the Koinonia family at the Greenville Town Commons for Jazz in the Park!\nhttps://www.eventbrite.com/e/jazz-in-the-park-2018-tickets-49428093759
X-ALT-DESC;FMTTYPE=text/html:<p>(Greenville\, NC) Koinonia Christian Center Church invites all of Pitt County and surrounding communities to enjoy an afternoon of relaxing music on&nbsp\;Sunday\, October 14\, 2018at the Greenville Toyota Amphitheater on the Greenville Town Commons\,&nbsp\;<a href="https://www.bing.com/local?lid=YN525x402006522&amp\;id=YN525x402006522&amp\;q=Town+Common&amp\;name=Town+Common&amp\;cp=35.614818572998%7e-77.3712921142578&amp\;ppois=35.614818572998_-77.3712921142578_Town+Common&amp\;FORM=SNAPST" rel="noopener noreferrer nofollow" style="color: rgb(0\, 127\, 140)\; text-decoration-line: none\; background-color: transparent\; padding-top: 0px\;" target="_blank">105 E. 1st St\, Greenville\, NC 27858</a>. The event will be held from 3pm &ndash\; 8pmand admission is free!</p>\n\n<p>Headlining the event is saxophonist\, Adrian Crutchfield.&nbsp\;Known as the last sax player to perform and record with Prince (2012-2016)\, Adrian is featured on many of Prince&rsquo\;s final masterpieces. His high energy show brings a diversity to jazz never seen before with music for every generation!&nbsp\;Adrian has also had the privilege of performing with such names as Bette Midler\, R&amp\;B icon Anthony Hamilton\, Fantasia Barrino and hip hop superstar Young Jeezy.In jazz\, Mr. Crutchfield has been featured by names such Mike Phillips\, Jeff Lorber\, and Branford Marsalis\; and with legendary group\, The Gap Band featuring Charlie Wilson. He will be accompanied by Limited Edition\; best known as the band to saxophonist\, Marcus Anderson\, who will also serve as the event&rsquo\;s house band.</p>\n\n<p>&nbsp\;</p>\n\n<p>Event attendees will also enjoy performances from&nbsp\;ECU&rsquo\;s own and world-renowned musician\, Dr. Carroll&nbsp\;Dashiell\, Pitt Community College instructor and Music Academy of Eastern Carolina co-founder\, Mr. Michael Stephenson\, along with Carolina Sound of Raleigh\, community favorites\, Kruz Band and Ruffin Keys\, Rob LaRay of New York\, and Bertrand Bailey Jr. of Louisiana.</p>\n\n<p>Food and merchandise vendors will be available and they&rsquo\;ll be plenty of room to dance!</p>\n\n<h3><strong>To become an official Jazz in the Park Vendor - Visit the links below!</strong></h3>\n\n<h3><a href="https://mykoinonia.ccbchurch.com/goto/forms/152/responses/new" rel="noopener noreferrer nofollow" style="color: rgb(0\, 127\, 140)\; text-decoration-line: none\; background-color: transparent\; padding-top: 0px\;" target="_blank"><strong>Merchandise Vendors Click Here</strong></a></h3>\n\n<h3><a href="https://mykoinonia.ccbchurch.com/goto/forms/151/responses/new" rel="noopener noreferrer nofollow" style="color: rgb(0\, 127\, 140)\; text-decoration-line: none\; background-color: transparent\; padding-top: 0px\;" target="_blank"><strong>Food Vendors Click Here</strong></a></h3>\n\n<p>This event is for all who enjoy good music\, good food\, and good fun. So\, mark your calendars\, save the date and plan to meet Bishop Rosie S. O&rsquo\;neal and the Koinonia family at the Greenville Town Commons for&nbsp\;<em>Jazz in the Park</em>!</p>\nhttps://www.eventbrite.com/e/jazz-in-the-park-2018-tickets-49428093759
LOCATION:Greenville Toyota Amphitheater at Town Commons 105 E 1st Street Greenville\, NC 27858
UID:e.840.8918
SEQUENCE:3
DTSTAMP:20260421T013843Z
URL:https://business.greenvillenc.org/events/details/jazz-in-the-park-8918
END:VEVENT

END:VCALENDAR
