BEGIN:VCALENDAR
VERSION:2.0
PRODID:-//ChamberMaster//Event Calendar 2.0//EN
METHOD:PUBLISH
X-PUBLISHED-TTL:P3D
REFRESH-INTERVAL:P3D
CALSCALE:GREGORIAN
BEGIN:VEVENT
DTSTART:20160614T150000Z
DTEND:20160614T180000Z
X-MICROSOFT-CDO-ALLDAYEVENT:FALSE
SUMMARY:Jane Iredale Contouring Event with Nationally Know Makeup Artist\, Natalie Soto-Carlisle
DESCRIPTION:Did someone say 20% off Jane Iredale Make Up?!? Join us for this exclusive contouring event and receive 20% off Jane Iredale products. Call today to reserve your spot!
X-ALT-DESC;FMTTYPE=text/html:<div style="text-align: center\;"><strong>Did someone say 20% off Jane Iredale Make Up?!? Join us for this exclusive contouring event and receive 20% off Jane Iredale products. Call today to reserve your spot!</strong></div>\n
LOCATION:Beauty Bar Medispa 1021 Red Banks Road Greenville NC\, 27858
UID:e.840.4901
SEQUENCE:3
DTSTAMP:20260424T071452Z
URL:https://business.greenvillenc.org/events/details/jane-iredale-contouring-event-with-nationally-know-makeup-artist-natalie-soto-carlisle-06-14-2016-4901
END:VEVENT

END:VCALENDAR
