BEGIN:VCALENDAR
VERSION:2.0
PRODID:-//ChamberMaster//Event Calendar 2.0//EN
METHOD:PUBLISH
X-PUBLISHED-TTL:P3D
REFRESH-INTERVAL:P3D
CALSCALE:GREGORIAN
BEGIN:VEVENT
DTSTART:20170412T220000Z
DTEND:20170426T000000Z
X-MICROSOFT-CDO-ALLDAYEVENT:FALSE
SUMMARY:It always seems too early\, until its too late
DESCRIPTION:Talking about end-of-life issues can be difficult. Most of us would rather put it off\, but the best time to do it is now\, because it always seems too early\, until it's too late.\n\n\n\nJoin us to hear from Dr. Lucy Kalanithi\, widow of the late Dr. Paul Kalanithi\, author of the New York Times best seller\, "When Breath Becomes Air."  She will reflect on their journey as Paul became both doctor and patient facing a terminal illness at the age of 36. You'll come away moved by their story and inspired to explore your own goals in living and dying well.
X-ALT-DESC;FMTTYPE=text/html:Talking about end-of-life issues can be difficult. Most of us would rather put it off\, but the best time to do it is now\, because it always seems too early\,&nbsp\;until it&rsquo\;s too late.<br />\n<br />\nJoin us to hear from Dr. Lucy Kalanithi\, widow of the late Dr. Paul Kalanithi\, author of the New York Times best seller\, &quot\;When Breath Becomes Air.&quot\; &nbsp\;She will reflect on their journey as Paul became both doctor and patient facing a terminal illness at the age of 36. You&rsquo\;ll come away moved by their story and inspired to explore your own goals in living and dying well.
LOCATION:Greenville Convention Center 303 Greenville Boulevard SW Greenville\, NC
UID:e.840.8086
SEQUENCE:3
DTSTAMP:20260423T182042Z
URL:https://business.greenvillenc.org/events/details/it-always-seems-too-early-until-its-too-late-8086
END:VEVENT

END:VCALENDAR
