BEGIN:VCALENDAR
VERSION:2.0
PRODID:-//ChamberMaster//Event Calendar 2.0//EN
METHOD:PUBLISH
X-PUBLISHED-TTL:P3D
REFRESH-INTERVAL:P3D
CALSCALE:GREGORIAN
BEGIN:VEVENT
DTSTART;VALUE=DATE:19971120
DTEND;VALUE=DATE:19971121
TRANSP:TRANSPARENT
X-MICROSOFT-CDO-ALLDAYEVENT:TRUE
SUMMARY:Investment Strategies for the 21st Century
DESCRIPTION:
X-ALT-DESC;FMTTYPE=text/html:
LOCATION:Hilton Inn
UID:e.840.26
SEQUENCE:3
DTSTAMP:20260422T172154Z
URL:https://business.greenvillenc.org/events/details/investment-strategies-for-the-21st-century-11-20-1997-26
END:VEVENT

END:VCALENDAR
