BEGIN:VCALENDAR
VERSION:2.0
PRODID:-//ChamberMaster//Event Calendar 2.0//EN
METHOD:PUBLISH
X-PUBLISHED-TTL:P3D
REFRESH-INTERVAL:P3D
CALSCALE:GREGORIAN
BEGIN:VEVENT
DTSTART:20200801T150000Z
DTEND:20200801T170000Z
X-MICROSOFT-CDO-ALLDAYEVENT:FALSE
SUMMARY:Intro to Raspberry Pi mini-computer
DESCRIPTION:The Raspberry Pi is a simple and inexpensive mini-computer that will quickly get you into the world of programming. This unit can be used in anything from digital signage to robotics. Your imagination is the limiting factor in it's use.\n\n\n\nLearn how to get started with the mini-computer from initial booting up to running the unit headless. Must bring a laptop and a Raspberry Pi 3B or newer.\n\n\n\nCost $50 for class +$12 for pre-formatted memory card.
X-ALT-DESC;FMTTYPE=text/html:The Raspberry Pi is a simple and inexpensive mini-computer that will quickly get you into the world of programming. This unit can be used in anything from digital signage to robotics. Your imagination is the limiting factor in it&#39\;s use.<br />\n<br />\nLearn how to get started with the mini-computer from initial booting up to running the unit headless. Must bring a laptop and a Raspberry Pi 3B or newer.<br />\n<br />\nCost $50 for class +$12 for pre-formatted memory card.
LOCATION:Makerspace of Greenville 102 Staton Ct\, Ste E Greenville\, NC 27834
UID:e.840.11431
SEQUENCE:3
DTSTAMP:20260419T173747Z
URL:https://business.greenvillenc.org/events/details/intro-to-raspberry-pi-mini-computer-11431
END:VEVENT

END:VCALENDAR
