BEGIN:VCALENDAR
VERSION:2.0
PRODID:-//ChamberMaster//Event Calendar 2.0//EN
METHOD:PUBLISH
X-PUBLISHED-TTL:P3D
REFRESH-INTERVAL:P3D
CALSCALE:GREGORIAN
BEGIN:VEVENT
DTSTART:20161013T123000Z
DTEND:20161013T150000Z
X-MICROSOFT-CDO-ALLDAYEVENT:FALSE
SUMMARY:"If We Build It...They Will Come...And Stay Longer"
DESCRIPTION:The 21st century workplace is very different from what most organizations and HR managers envisioned. Cross-generational workforces\; race-ethnic-gender- religious cultural diversity and workers with disabilities certainly add richness\, creativity\, broader perspective and inclusion to our organizations. However\, this "new normal" also requires MORE from ALL managers...but most especially HR managers. HR managers provide the parameters and context by which managers and ALL employees are able to perform at their best. This session looks at three key strategies to assist in these requirements:\n\n\n\nEffective Interpersonal Relations - offers techniques to identify positives and "derailers" that can impact your effectiveness and organizational performance.\n\nFeedback That's Useful - easy-to-use feedback tool for meaningful employee-manager engagement and individual development support.\n\n"Set the Tone" - offers Code of Conduct guidelines that define organizational culture to "humanize" the workplace and refocus employee productivity.
X-ALT-DESC;FMTTYPE=text/html:The 21st century workplace is very different from what most organizations and HR managers envisioned. Cross-generational workforces\; race-ethnic-gender- religious cultural diversity and workers with disabilities certainly add richness\, creativity\, broader perspective and inclusion to our organizations. However\, this &quot\;new normal&quot\; also requires MORE from ALL managers...but most especially HR managers. HR managers provide the parameters and context by which managers and ALL employees are able to perform at their best. This session looks at three key strategies to assist in these requirements:<br />\n<br />\n<strong>Effective Interpersonal Relations</strong> - offers techniques to identify positives and &ldquo\;derailers&rdquo\; that can impact your effectiveness and organizational performance.<br />\n<strong>Feedback That&#39\;s Useful</strong> - easy-to-use feedback tool for meaningful employee-manager engagement and individual development support.<br />\n<strong>&ldquo\;Set the Tone&rdquo\;</strong> - offers Code of Conduct guidelines that define organizational culture to &quot\;humanize&quot\; the workplace and refocus employee productivity.
LOCATION:The Hilton - Greenville\, NC
UID:e.840.5871
SEQUENCE:3
DTSTAMP:20260424T010647Z
URL:https://business.greenvillenc.org/events/details/if-we-build-it-they-will-come-and-stay-longer-5871
END:VEVENT

END:VCALENDAR
