BEGIN:VCALENDAR
VERSION:2.0
PRODID:-//ChamberMaster//Event Calendar 2.0//EN
METHOD:PUBLISH
X-PUBLISHED-TTL:P3D
REFRESH-INTERVAL:P3D
CALSCALE:GREGORIAN
BEGIN:VEVENT
DTSTART;VALUE=DATE:20180821
DTEND;VALUE=DATE:20180822
TRANSP:TRANSPARENT
X-MICROSOFT-CDO-ALLDAYEVENT:TRUE
SUMMARY:IDX Impressions Employer Career Fair
DESCRIPTION:iDX Impressions is hosting a job fair  Tuesday August 21st from 10 AM to 2 PM.   All interested candidates MUST be registered with NCWorks and resumes are highly encouraged.  Closed toe shoes REQUIRED for plant tour.  All interested and eligible candidates are encouraged to apply for the following jobs in Advanced Manufacturing:               * Assemblers   \n\n*  Millwright
X-ALT-DESC;FMTTYPE=text/html:iDX Impressions is hosting a job fair&nbsp\; Tuesday August 21st from 10 AM to 2 PM.&nbsp\;&nbsp\; All interested candidates MUST be registered with NCWorks and resumes are highly encouraged.&nbsp\; Closed toe shoes REQUIRED for plant tour.&nbsp\; All interested and eligible candidates are encouraged to apply for the following jobs in Advanced Manufacturing:&nbsp\;&nbsp\;&nbsp\;&nbsp\;&nbsp\;&nbsp\;&nbsp\;&nbsp\;&nbsp\;&nbsp\;&nbsp\;&nbsp\;&nbsp\;&nbsp\; * Assemblers&nbsp\;&nbsp\;&nbsp\;<br />\n*&nbsp\; Millwright<br />\n&nbsp\;
LOCATION:Washington\, NC
UID:e.840.8910
SEQUENCE:3
DTSTAMP:20260421T050342Z
URL:https://business.greenvillenc.org/events/details/idx-impressions-employer-career-fair-8910
END:VEVENT

END:VCALENDAR
