BEGIN:VCALENDAR
VERSION:2.0
PRODID:-//ChamberMaster//Event Calendar 2.0//EN
METHOD:PUBLISH
X-PUBLISHED-TTL:P3D
REFRESH-INTERVAL:P3D
CALSCALE:GREGORIAN
BEGIN:VEVENT
DTSTART:20160915T220000Z
DTEND:20160916T010000Z
X-MICROSOFT-CDO-ALLDAYEVENT:FALSE
SUMMARY:How to Start a Small Business
DESCRIPTION:Understand the basics of starting a business in this seminar that takes you from idea to opportunity. Learn key strategies for start-up\, financing and marketing as well as important information about legal issues\, licensing\, zoning\, operations and more. Realize the importance of a self-assessment and how to evaluate the feasibility of your business idea. Discover the resources available to help you start and successfully operate your business. Cost: FREE\n\n\n\nRegister online: https://www.ncsbc.net/workshop.aspx?ekey=380360100
X-ALT-DESC;FMTTYPE=text/html:<span style="color: rgb(0\, 0\, 0)\; font-family: arial\,helvetica\,sans-serif\; font-size: 12px\;">Understand the basics of starting a business in this seminar that takes you from idea to opportunity. Learn key strategies for start-up\, financing and marketing as well as important information about legal issues\, licensing\, zoning\, operations and more. Realize the importance of a self-assessment and how to evaluate the feasibility of your business idea. Discover the resources available to help you start and successfully operate your business. Cost: FREE<br />\n<br />\nRegister online:&nbsp\;</span>https://www.ncsbc.net/workshop.aspx?ekey=380360100
LOCATION:PCC Greenville Center - 3107 S. Memorial Drive
UID:e.840.5844
SEQUENCE:3
DTSTAMP:20260424T024633Z
URL:https://business.greenvillenc.org/events/details/how-to-start-a-small-business-5844
END:VEVENT

END:VCALENDAR
