BEGIN:VCALENDAR
VERSION:2.0
PRODID:-//ChamberMaster//Event Calendar 2.0//EN
METHOD:PUBLISH
X-PUBLISHED-TTL:P3D
REFRESH-INTERVAL:P3D
CALSCALE:GREGORIAN
BEGIN:VEVENT
DTSTART:20180214T200000Z
DTEND:20180214T220000Z
X-MICROSOFT-CDO-ALLDAYEVENT:FALSE
SUMMARY:"How to Start a Business" Workshop
DESCRIPTION:The Small Business & Technology Development Center (SBTDC) at ECU offers a monthly workshop following the Business Model Canvas.  In this workshop\, you will document your new or existing business using a visual chart with elements describing your product's value proposition\, customers\, relationships\, channels\, infrastructure and finances.  Our next workshop will be held on Wednesday\, February 14th\, 2018 from 3:00   5:00PM at ECU's Willis Building (300 E 1st St.) in Uptown Greenville.  You may register by sending an email to ecu@sbtdc.org or visiting our website at http://www.sbtdc.org/business-events/how-to-start-a-business-74/. \n\n \n\nRegistration Fee:  $25.00
X-ALT-DESC;FMTTYPE=text/html:<span style="font-family:times new roman\,serif"><span style="font-size:12.0pt">The Small Business &amp\; Technology Development Center (SBTDC) at ECU offers a monthly workshop following the Business Model Canvas.&nbsp\;&nbsp\;In this workshop\, you will document your new or existing business using a visual chart with elements describing your product&rsquo\;s value proposition\, customers\, relationships\, channels\, infrastructure and finances.&nbsp\; Our next workshop will be held on <strong>Wednesday\, February 14<sup>th</sup>\, 2018 from 3:00 &ndash\; 5:00PM</strong> at ECU&rsquo\;s Willis Building (300 E 1<sup>st</sup> St.) in Uptown Greenville.&nbsp\; You may register by sending an email to <a href="mailto:ecu@sbtdc.org">ecu@sbtdc.org</a> or visiting our website at <a href="http://www.sbtdc.org/business-events/how-to-start-a-business-74/">http://www.sbtdc.org/business-events/how-to-start-a-business-74/</a>. </span></span><br />\n&nbsp\;<br />\n<strong><span style="font-family:times new roman\,serif"><span style="font-size:12.0pt">Registration Fee:</span></span></strong><span style="font-family:times new roman\,serif"><span style="font-size:12.0pt">&nbsp\; $25.00</span></span>
LOCATION:Willis Building 300 E. First Street Greenville\, NC 27858
UID:e.840.8722
SEQUENCE:3
DTSTAMP:20260423T015237Z
URL:https://business.greenvillenc.org/events/details/how-to-start-a-business-workshop-8722
END:VEVENT

END:VCALENDAR
