BEGIN:VCALENDAR
VERSION:2.0
PRODID:-//ChamberMaster//Event Calendar 2.0//EN
METHOD:PUBLISH
X-PUBLISHED-TTL:P3D
REFRESH-INTERVAL:P3D
CALSCALE:GREGORIAN
BEGIN:VEVENT
DTSTART:20180516T190000Z
DTEND:20180516T210000Z
X-MICROSOFT-CDO-ALLDAYEVENT:FALSE
SUMMARY:"How to Start a Business" Workshop
DESCRIPTION:The Small Business & Technology Development Center (SBTDC) at ECU offers a monthly workshop following the Business Model Canvas. In this workshop\, you will document your new or existing business using a visual chart with elements describing your product's value proposition\, customers\, relationships\, channels\, infrastructure and finances.  Our next workshop will be held on Wednesday\, May 16th from 3:00-5:00pm at ECU's Willis Building (300 E 1st St.) in Uptown Greenville. \n\n\n\nRegistration Fee: $25\n\n\n\nYou may register by sending an email to ecu@sbtdc.org or visiting our website at http://www.sbtdc.org/business-events/business-model-canvas-3/
X-ALT-DESC;FMTTYPE=text/html:<span style="font-family:times new roman\,serif"><span style="font-size:12.0pt">The Small Business &amp\; Technology Development Center (SBTDC) at ECU offers a monthly workshop following the Business Model Canvas. In this workshop\, you will document your new or existing business using a visual chart with elements describing your product&rsquo\;s value proposition\, customers\, relationships\, channels\, infrastructure and finances.&nbsp\; Our next workshop will be held on Wednesday\,&nbsp\;May 16th from 3:00-5:00pm&nbsp\;at ECU&rsquo\;s Willis Building (300 E 1<sup>st</sup> St.) in Uptown Greenville.&nbsp\;<br />\n<br />\nRegistration Fee: $25<br />\n<br />\nYou may register by sending an email to </span></span><a href="mailto:ecu@sbtdc.org"><span style="font-family:times new roman\,serif"><span style="font-size:12.0pt">ecu@sbtdc.org</span></span></a><span style="font-family:times new roman\,serif"><span style="font-size:12.0pt"> or visiting our website at <a href="http://www.sbtdc.org/business-events/business-model-canvas-3/">http://www.sbtdc.org/business-events/business-model-canvas-3/</a>&nbsp\;</span></span>
LOCATION:ECU Willis Building 300 E. First Street Greenville\, NC 27858
UID:e.840.8737
SEQUENCE:3
DTSTAMP:20260421T090214Z
URL:https://business.greenvillenc.org/events/details/how-to-start-a-business-workshop-05-16-2018-8737
END:VEVENT

END:VCALENDAR
