BEGIN:VCALENDAR
VERSION:2.0
PRODID:-//ChamberMaster//Event Calendar 2.0//EN
METHOD:PUBLISH
X-PUBLISHED-TTL:P3D
REFRESH-INTERVAL:P3D
CALSCALE:GREGORIAN
BEGIN:VEVENT
DTSTART:20170913T190000Z
DTEND:20170913T210000Z
X-MICROSOFT-CDO-ALLDAYEVENT:FALSE
SUMMARY:How to Start a Business
DESCRIPTION:Dream of being your own boss?  If so\, the Small Business & Technology Development Center (SBTDC) at ECU offers a free monthly workshop that's just for you!  The "How to Start a Business" workshop teaches participants the basic business ownership steps.  Our counselors discuss ways to research your business market\, how to write a business plan\, and the steps to seeking initial funding. \n\n\n\nIf interested\, plan on attending this free event on Wednesday\, September 13\, 2017 from 3:00   5:00 PM at ECU's Willis Building (300 E. 1st St.) in Uptown Greenville. \n\n\n\nThis event is free\, but registration is required.  Please register online at https://access.sbtdc.org/reg.aspx?mode=event&event=6370008.
X-ALT-DESC;FMTTYPE=text/html:Dream of being your own boss?&nbsp\; If so\, the Small Business &amp\; Technology Development Center (SBTDC) at ECU offers a free monthly workshop that&rsquo\;s just for you!&nbsp\; The &ldquo\;How to Start a Business&rdquo\; workshop teaches participants the basic business ownership steps.&nbsp\; Our counselors discuss ways to research your business market\, how to write a business plan\, and the steps to seeking initial funding.&nbsp\;<br />\n<br />\nIf interested\, plan on attending this free event on<strong> Wednesday\, September 13\, 2017 from 3:00 &ndash\; 5:00 PM </strong>at ECU&rsquo\;s Willis Building (300 E. 1<sup>st</sup> St.) in Uptown Greenville.&nbsp\;<br />\n<br />\nThis event is free\, but registration is required.&nbsp\; Please register online at <a href="https://access.sbtdc.org/reg.aspx?mode=event&amp\;event=6370008">https://access.sbtdc.org/reg.aspx?mode=event&amp\;event=6370008.</a>
LOCATION:ECU Willis Building 300 E 1st Street Greenville\, NC 27858
UID:e.840.8506
SEQUENCE:3
DTSTAMP:20260423T091850Z
URL:https://business.greenvillenc.org/events/details/how-to-start-a-business-09-13-2017-8506
END:VEVENT

END:VCALENDAR
