BEGIN:VCALENDAR
VERSION:2.0
PRODID:-//ChamberMaster//Event Calendar 2.0//EN
METHOD:PUBLISH
X-PUBLISHED-TTL:P3D
REFRESH-INTERVAL:P3D
CALSCALE:GREGORIAN
BEGIN:VEVENT
DTSTART:20160706T190000Z
DTEND:20160706T210000Z
X-MICROSOFT-CDO-ALLDAYEVENT:FALSE
SUMMARY:How to Start a Business
DESCRIPTION:Dream of being your own boss?  If so\, the Small Business & Technology Development Center (SBTDC) at ECU offers a free monthly workshop that's just for you!  The "How to Start a Business" workshop teaches participants the basic business ownership steps.  Our counselors discuss ways to research your business market\, how to write a business plan\, and the steps to seeking initial funding.  Registration is free and so is this workshop! \n\n\n\nIf interested\, plan on attending this free event on Wednesday\, July 6th\, 2016 from 3:00   5:00 PM at ECU's Willis Building (300 E. 1st St.) in Uptown Greenville.  Please register online at http://www.sbtdc.org/business-events/how-to-start-a-business-44/.
X-ALT-DESC;FMTTYPE=text/html:Dream of being your own boss?&nbsp\; If so\, the Small Business &amp\; Technology Development Center (SBTDC) at ECU offers a free monthly workshop that&rsquo\;s just for you!&nbsp\; The &ldquo\;How to Start a Business&rdquo\; workshop teaches participants the basic business ownership steps.&nbsp\; Our counselors discuss ways to research your business market\, how to write a business plan\, and the steps to seeking initial funding.&nbsp\; Registration is free and so is this workshop!&nbsp\;<br />\n<br />\nIf interested\, plan on attending this free event on<strong> Wednesday\, July 6<sup>th</sup>\, 2016 from 3:00 &ndash\; 5:00 PM </strong>at ECU&rsquo\;s Willis Building (300 E. 1<sup>st</sup> St.) in Uptown Greenville.&nbsp\; Please register online at <a href="http://www.sbtdc.org/business-events/how-to-start-a-business-44/">http://www.sbtdc.org/business-events/how-to-start-a-business-44/.</a>
LOCATION:ECU Willis Building 300 E 1st Street Greenville\, NC 27858
UID:e.840.4909
SEQUENCE:3
DTSTAMP:20260424T065605Z
URL:https://business.greenvillenc.org/events/details/how-to-start-a-business-07-06-2016-4909
END:VEVENT

END:VCALENDAR
