BEGIN:VCALENDAR
VERSION:2.0
PRODID:-//ChamberMaster//Event Calendar 2.0//EN
METHOD:PUBLISH
X-PUBLISHED-TTL:P3D
REFRESH-INTERVAL:P3D
CALSCALE:GREGORIAN
BEGIN:VEVENT
DTSTART;VALUE=DATE:19971209
DTEND;VALUE=DATE:19971210
TRANSP:TRANSPARENT
X-MICROSOFT-CDO-ALLDAYEVENT:TRUE
SUMMARY:How to Motivate Employees & The Problem Employee
DESCRIPTION:
X-ALT-DESC;FMTTYPE=text/html:
LOCATION:Comfort Inn
UID:e.840.28
SEQUENCE:3
DTSTAMP:20260422T155534Z
URL:https://business.greenvillenc.org/events/details/how-to-motivate-employees-the-problem-employee-12-09-1997-28
END:VEVENT

END:VCALENDAR
