BEGIN:VCALENDAR
VERSION:2.0
PRODID:-//ChamberMaster//Event Calendar 2.0//EN
METHOD:PUBLISH
X-PUBLISHED-TTL:P3D
REFRESH-INTERVAL:P3D
CALSCALE:GREGORIAN
BEGIN:VEVENT
DTSTART:20160929T140000Z
DTEND:20160929T210000Z
X-MICROSOFT-CDO-ALLDAYEVENT:FALSE
SUMMARY:Hope Club Classic Golf Tournament
DESCRIPTION:The Hope Club Classic is  a superball golf tournament supporting the American Cancer Society Relay For Life of Northeastern North Carolina.
X-ALT-DESC;FMTTYPE=text/html:<br />\n<span style="font-family:times new roman\;"><span style="font-size:14px">The Hope Club Classic is&nbsp\; a superball golf tournament supporting the American Cancer Society Relay For Life of Northeastern North Carolina.</span></span><br />\n&nbsp\;<br />\n&nbsp\;
LOCATION:Cutter Creek Golf Club\, Snow Hill\, NC
UID:e.840.5812
SEQUENCE:3
DTSTAMP:20260424T041216Z
URL:https://business.greenvillenc.org/events/details/hope-club-classic-golf-tournament-09-29-2016-5812
END:VEVENT

END:VCALENDAR
