BEGIN:VCALENDAR
VERSION:2.0
PRODID:-//ChamberMaster//Event Calendar 2.0//EN
METHOD:PUBLISH
X-PUBLISHED-TTL:P3D
REFRESH-INTERVAL:P3D
CALSCALE:GREGORIAN
BEGIN:VEVENT
DTSTART:20180623T130000Z
DTEND:20180623T150000Z
X-MICROSOFT-CDO-ALLDAYEVENT:FALSE
SUMMARY:Home Brew Coffee Class
DESCRIPTION:Brewing Better Coffee at Home Workshop. An introductory coffee class and coffee tasting at Coastal Fog. Saturday June 23 9-11am. Sign up at Coastal Fog\, over the phone or online atCoastalFog.com | 252.347.2632 | Tickets $25.
X-ALT-DESC;FMTTYPE=text/html:<br />\n<span style="background-color:rgb(255\, 255\, 255)\; color:rgb(29\, 33\, 41)\; font-family:system-ui\,-apple-system\,system-ui\,.sfnstext-regular\,sans-serif\; font-size:14px">Brewing Better Coffee at Home Workshop. An introductory coffee class and coffee tasting at Coastal Fog. Saturday June 23 9-11am. Sign up at Coastal Fog\, over the phone or online at</span><a href="https://l.facebook.com/l.php?u=http%3A%2F%2FCoastalFog.com%2F&amp\;h=ATNVgNzpagU2uKHTapJYLkV31xaFXNAgW77rXEvWp4JuYHIJAsTfGWDKwC-o8UKpzyPDYi4tBiYx2znouUpjukT2HUvj9mkSHXF2bIx_K7ZW_bqDBOpReIrb2g" rel="nofollow noopener" style="color: rgb(54\, 88\, 153)\; cursor: pointer\; text-decoration-line: none\; font-family: system-ui\, -apple-system\, system-ui\, &quot\;.SFNSText-Regular&quot\;\, sans-serif\; font-size: 14px\; background-color: rgb(255\, 255\, 255)\;" target="_blank">CoastalFog.com</a><span style="background-color:rgb(255\, 255\, 255)\; color:rgb(29\, 33\, 41)\; font-family:system-ui\,-apple-system\,system-ui\,.sfnstext-regular\,sans-serif\; font-size:14px">&nbsp\;| 252.347.2632 | Tickets $25.</span>
LOCATION:330 Evans Street\, Greeville NC 27858
UID:e.840.8872
SEQUENCE:3
DTSTAMP:20260421T074634Z
URL:https://business.greenvillenc.org/events/details/home-brew-coffee-class-8872
END:VEVENT

END:VCALENDAR
