BEGIN:VCALENDAR
VERSION:2.0
PRODID:-//ChamberMaster//Event Calendar 2.0//EN
METHOD:PUBLISH
X-PUBLISHED-TTL:P3D
REFRESH-INTERVAL:P3D
CALSCALE:GREGORIAN
BEGIN:VEVENT
DTSTART:20171125T160000Z
DTEND:20171125T230000Z
X-MICROSOFT-CDO-ALLDAYEVENT:FALSE
SUMMARY:Holiday Wonderland
DESCRIPTION:Shop with different vendors and get an early start on your Christmas shopping.
X-ALT-DESC;FMTTYPE=text/html:Shop with different vendors and get an early start on your Christmas shopping.&nbsp\;
LOCATION:Hampton Inn 305 SW Greenville Blvd Greenville NC 27834
UID:e.840.8683
SEQUENCE:3
DTSTAMP:20260423T062728Z
URL:https://business.greenvillenc.org/events/details/holiday-wonderland-8683
END:VEVENT

END:VCALENDAR
