BEGIN:VCALENDAR
VERSION:2.0
PRODID:-//ChamberMaster//Event Calendar 2.0//EN
METHOD:PUBLISH
X-PUBLISHED-TTL:P3D
REFRESH-INTERVAL:P3D
CALSCALE:GREGORIAN
BEGIN:VEVENT
DTSTART;VALUE=DATE:20201206
DTEND;VALUE=DATE:20201209
TRANSP:TRANSPARENT
X-MICROSOFT-CDO-ALLDAYEVENT:TRUE
SUMMARY:Holiday Trip to the Biltmore Estate in Asheville
DESCRIPTION:Join us for a 3 day\, 2 night trip to the Biltmore Estate in Asheville.Trip includes 2 night hotel accommodations\, 2 breakfasts\, holiday dinner at Biltmore\, candlelight tour of the house\, wine tasting at the famous Biltmore Winery and more. Cost is $429 per person double occupancy. Travel protection is available to purchase. For more information\, call the Council on Aging at 252-752-1717.
X-ALT-DESC;FMTTYPE=text/html:Join us for a 3 day\, 2 night trip to the Biltmore Estate in Asheville.Trip includes 2 night hotel accommodations\, 2 breakfasts\, holiday dinner at Biltmore\, candlelight tour of the house\, wine tasting at the famous Biltmore Winery and more. Cost is $429 per person double occupancy. Travel protection is available to purchase. For more information\, call the Council on Aging at 252-752-1717.
LOCATION:Trip to Biltmore Estate in Asheville leaving from the Council on Aging\, 4551 County Home Road\, Greenville
UID:e.840.11432
SEQUENCE:3
DTSTAMP:20260419T120722Z
URL:https://business.greenvillenc.org/events/details/holiday-trip-to-the-biltmore-estate-in-asheville-11432
END:VEVENT

END:VCALENDAR
