BEGIN:VCALENDAR
VERSION:2.0
PRODID:-//ChamberMaster//Event Calendar 2.0//EN
METHOD:PUBLISH
X-PUBLISHED-TTL:P3D
REFRESH-INTERVAL:P3D
CALSCALE:GREGORIAN
BEGIN:VEVENT
DTSTART:20161215T170000Z
DTEND:20161218T230000Z
X-MICROSOFT-CDO-ALLDAYEVENT:FALSE
SUMMARY:Holiday TASTE of SAM'S CLUB
DESCRIPTION:Make the holidays festive with the Special Sampling Event ! Friday December 16 - Sunday December 18 from 11am until 6pm daily !! Do not forget about the : **Special SAVINGS Event . ONE DAY ONLY ..DECEMBER 17 **
X-ALT-DESC;FMTTYPE=text/html:Make the holidays festive with the Special Sampling Event ! Friday December 16 - Sunday December 18 from 11am until 6pm daily !! Do not forget about the : **Special SAVINGS Event . ONE DAY ONLY ..DECEMBER 17 **
LOCATION:Sam's Club Winterville
UID:e.840.7721
SEQUENCE:3
DTSTAMP:20260423T223437Z
URL:https://business.greenvillenc.org/events/details/holiday-taste-of-sam-s-club-7721
END:VEVENT

END:VCALENDAR
