BEGIN:VCALENDAR
VERSION:2.0
PRODID:-//ChamberMaster//Event Calendar 2.0//EN
METHOD:PUBLISH
X-PUBLISHED-TTL:P3D
REFRESH-INTERVAL:P3D
CALSCALE:GREGORIAN
BEGIN:VEVENT
DTSTART:20191012T220000Z
DTEND:20191013T010000Z
X-MICROSOFT-CDO-ALLDAYEVENT:FALSE
SUMMARY:Holiday Open House
DESCRIPTION:It's that time of year!   Holiday shopping has begun\, and what better way to buy this year than empowering women out of poverty?!  Maybe add a few giveaways on top of that?  You got it.\n\nFair trade certified means that all the items were ethically made by women who are rising up in their communities throughout 17 different countries.  \n\n\n\nCome out and see holiday decor\, amazing jewelry\, and gifts that are sure to please!  It is a come and go as you please event with no purchase necessary to win and you don't have to be present.
X-ALT-DESC;FMTTYPE=text/html:<p>It&#39\;s that time of year!&nbsp\; &nbsp\;Holiday shopping has begun\, and what better way to buy this year than empowering women out of poverty?!&nbsp\; Maybe add a few giveaways on top of that?&nbsp\; You got it.</p>\n\n<p>Fair trade certified means that all the items were ethically made by women who are rising up in their communities throughout 17 different countries.&nbsp\;&nbsp\;<br />\n<br />\nCome out and see holiday decor\, amazing jewelry\, and gifts that are sure to please!&nbsp\; It is a come and go as you please event with no purchase necessary to win and you don&#39\;t have to be present.</p>\n
LOCATION:Greenville Fit Body Boot Camp 4125 Old Tar Rd\, Winterville\, NC 28590
UID:e.840.10793
SEQUENCE:3
DTSTAMP:20260420T092401Z
URL:https://business.greenvillenc.org/events/details/holiday-open-house-10793
END:VEVENT

END:VCALENDAR
