BEGIN:VCALENDAR
VERSION:2.0
PRODID:-//ChamberMaster//Event Calendar 2.0//EN
METHOD:PUBLISH
X-PUBLISHED-TTL:P3D
REFRESH-INTERVAL:P3D
CALSCALE:GREGORIAN
BEGIN:VEVENT
DTSTART:20191003T130000Z
DTEND:20191003T220000Z
X-MICROSOFT-CDO-ALLDAYEVENT:FALSE
SUMMARY:Are You the One? Altice USA Hiring Event
DESCRIPTION:Are You the One?  Altice is seeking Dispatch Representatives to join our team. Attend our hiring event on October 3\, 2019 from 9:00am - 12pm and 3pm - 6pm at 2120 W. Arlington Blvd.\, Greenville. \n\n\n\nFor more info: www.alticecareers.com
X-ALT-DESC;FMTTYPE=text/html:Are You the One?&nbsp\; Altice is seeking Dispatch Representatives to join our team. Attend our hiring event on October 3\, 2019 from 9:00am - 12pm and 3pm - 6pm at 2120 W. Arlington Blvd.\, Greenville.&nbsp\;<br />\n<br />\nFor more info: www.alticecareers.com
LOCATION:Suddenlink Office at 2120 W Arlington Blvd\, Greenville\, NC
UID:e.840.10206
SEQUENCE:3
DTSTAMP:20260420T103238Z
URL:https://business.greenvillenc.org/events/details/hiring-event-10206
END:VEVENT

END:VCALENDAR
