BEGIN:VCALENDAR
VERSION:2.0
PRODID:-//ChamberMaster//Event Calendar 2.0//EN
METHOD:PUBLISH
X-PUBLISHED-TTL:P3D
REFRESH-INTERVAL:P3D
CALSCALE:GREGORIAN
BEGIN:VEVENT
DTSTART:20190311T223000Z
DTEND:20190312T003000Z
X-MICROSOFT-CDO-ALLDAYEVENT:FALSE
SUMMARY:High School Registration Meeting
DESCRIPTION:Attention Rising 9th Graders-\n\nAll private\, charter\, homeschool students and parents\, transfer students and anyone who is interested in the high school registration process is invited to attend our high school registration meeting. We invite you to come learn more about PCS graduation requirements and future-ready core course of study. High school counselors will be present.
X-ALT-DESC;FMTTYPE=text/html:Attention Rising 9th Graders-<br />\nAll private\, charter\, homeschool students and parents\, transfer students and anyone who is interested in the high school registration process is invited to attend our high school registration meeting. We invite you to come learn more about PCS graduation requirements and future-ready core course of study. High school counselors will be present.&nbsp\;
LOCATION:JH Rose High School Lecture Hall
UID:e.840.9761
SEQUENCE:3
DTSTAMP:20260420T190840Z
URL:https://business.greenvillenc.org/events/details/high-school-registration-meeting-9761
END:VEVENT

END:VCALENDAR
