BEGIN:VCALENDAR
VERSION:2.0
PRODID:-//ChamberMaster//Event Calendar 2.0//EN
METHOD:PUBLISH
X-PUBLISHED-TTL:P3D
REFRESH-INTERVAL:P3D
CALSCALE:GREGORIAN
BEGIN:VEVENT
DTSTART:20170921T160000Z
DTEND:20170921T200000Z
X-MICROSOFT-CDO-ALLDAYEVENT:FALSE
SUMMARY:Helping Your Business Grow: Small Business Workshop
DESCRIPTION:This is a FREE event for local business owners or those that are thinking of starting a business.  We are offering a consolidated event to help you understand the topics below.  These are FDIC MoneySmart modules that are designed to help business owners\, new and experienced\, to be more efficient at what you do.
X-ALT-DESC;FMTTYPE=text/html:This is a FREE event for local business owners or those that are thinking of starting a business.&nbsp\; We are offering a consolidated event to help you understand the topics below.&nbsp\; These are FDIC MoneySmart modules that are designed to help business owners\, new and experienced\, to be more efficient at what you do.
LOCATION:Sheppard Memorial Library- Room A 530 Evans Street\, Greenville\, NC 27858
UID:e.840.8658
SEQUENCE:3
DTSTAMP:20260423T093052Z
URL:https://business.greenvillenc.org/events/details/helping-your-business-grow-small-business-workshop-8658
END:VEVENT

END:VCALENDAR
