BEGIN:VCALENDAR
VERSION:2.0
PRODID:-//ChamberMaster//Event Calendar 2.0//EN
METHOD:PUBLISH
X-PUBLISHED-TTL:P3D
REFRESH-INTERVAL:P3D
CALSCALE:GREGORIAN
BEGIN:VEVENT
DTSTART:20181013T200000Z
DTEND:20181013T220000Z
X-MICROSOFT-CDO-ALLDAYEVENT:FALSE
SUMMARY:Happy the Pig
DESCRIPTION:Happy the Pig will be at Hwy. 55 Burgers Shakes & Fries on Memorial Dr. on Saturday\, October 13th from 4-6 pm
X-ALT-DESC;FMTTYPE=text/html:Happy the Pig will be at Hwy. 55 Burgers Shakes &amp\; Fries&nbsp\;on Memorial Dr. on Saturday\, October 13th from 4-6 pm
LOCATION:Hwy 55. Burgers Shakes & Fries 3700 S Memorial Dr E\, Greenville\, NC 27834
UID:e.840.8929
SEQUENCE:3
DTSTAMP:20260421T013803Z
URL:https://business.greenvillenc.org/events/details/happy-the-pig-8929
END:VEVENT

END:VCALENDAR
