BEGIN:VCALENDAR
VERSION:2.0
PRODID:-//ChamberMaster//Event Calendar 2.0//EN
METHOD:PUBLISH
X-PUBLISHED-TTL:P3D
REFRESH-INTERVAL:P3D
CALSCALE:GREGORIAN
BEGIN:VEVENT
DTSTART:20181201T153000Z
DTEND:20181201T173000Z
X-MICROSOFT-CDO-ALLDAYEVENT:FALSE
SUMMARY:Happy the Pig
DESCRIPTION:Happy the Pig will be at Morris Barbeque in Hookerton on Saturday\, December 1st at 10:30am - 12:30pm.
X-ALT-DESC;FMTTYPE=text/html:<span style="color:rgb(68\, 68\, 68)\; font-family:arial\,helvetica\,sans-serif\; font-size:16.8px">Happy the Pig will be at&nbsp\;Morris Barbeque in Hookerton on Saturday\, December 1st at 10:30am - 12:30pm.</span>
LOCATION:Morris Barbeque 891 Morris Bbq Rd\, Hookerton\, NC 28538
UID:e.840.8940
SEQUENCE:3
DTSTAMP:20260420T230015Z
URL:https://business.greenvillenc.org/events/details/happy-the-pig-12-01-2018-8940
END:VEVENT

END:VCALENDAR
