BEGIN:VCALENDAR
VERSION:2.0
PRODID:-//ChamberMaster//Event Calendar 2.0//EN
METHOD:PUBLISH
X-PUBLISHED-TTL:P3D
REFRESH-INTERVAL:P3D
CALSCALE:GREGORIAN
BEGIN:VEVENT
DTSTART:20181022T200000Z
DTEND:20181023T000000Z
X-MICROSOFT-CDO-ALLDAYEVENT:FALSE
SUMMARY:Happy the Pig
DESCRIPTION:Happy the Pig will be at Newk's Eatery on Greenville Blvd.\, (at the former location of Panera Bread) on Monday\, October 22nd from 4 - 8
X-ALT-DESC;FMTTYPE=text/html:Happy the Pig will be at&nbsp\;Newk&#39\;s Eatery on Greenville Blvd.\, (at the former&nbsp\;location of Panera Bread) on Monday\, October 22nd&nbsp\;from 4 - 8<br />\n&nbsp\;
LOCATION:Newk's Eatery 516-A SE Greenville Blvd. Greenville\, NC 27858
UID:e.840.8936
SEQUENCE:3
DTSTAMP:20260421T025145Z
URL:https://business.greenvillenc.org/events/details/happy-the-pig-10-22-2018-8936
END:VEVENT

END:VCALENDAR
