BEGIN:VCALENDAR
VERSION:2.0
PRODID:-//ChamberMaster//Event Calendar 2.0//EN
METHOD:PUBLISH
X-PUBLISHED-TTL:P3D
REFRESH-INTERVAL:P3D
CALSCALE:GREGORIAN
BEGIN:VEVENT
DTSTART:20181020T140000Z
DTEND:20181020T160000Z
X-MICROSOFT-CDO-ALLDAYEVENT:FALSE
SUMMARY:Happy the Pig
DESCRIPTION:Happy the Pig will be at Gwendy's Goodies at 2nd & West Ave.\, in Ayden from 10am-12pm
X-ALT-DESC;FMTTYPE=text/html:Happy the Pig will be at Gwendy&#39\;s Goodies at 2nd &amp\; West Ave.\, in Ayden from 10am-12pm
LOCATION:Gwendy's Goodies 514 SR Second St\, Ayden\, NC 28513
UID:e.840.8932
SEQUENCE:3
DTSTAMP:20260421T025052Z
URL:https://business.greenvillenc.org/events/details/happy-the-pig-10-20-2018-8932
END:VEVENT

END:VCALENDAR
