BEGIN:VCALENDAR
VERSION:2.0
PRODID:-//ChamberMaster//Event Calendar 2.0//EN
METHOD:PUBLISH
X-PUBLISHED-TTL:P3D
REFRESH-INTERVAL:P3D
CALSCALE:GREGORIAN
BEGIN:VEVENT
DTSTART:20181018T200000Z
DTEND:20181018T220000Z
X-MICROSOFT-CDO-ALLDAYEVENT:FALSE
SUMMARY:Happy the Pig
DESCRIPTION:Happy the Pig will be at the Postal Annex on Thursday\, October 18th at 4-6 pm
X-ALT-DESC;FMTTYPE=text/html:Happy the Pig will be at the Postal Annex on Thursday\, October 18th at 4-6 pm
LOCATION:Postal Annex 2120 E Fire Tower Rd #107 Greenville\, NC 27858 (just down from Harris Teeter\, and behind Hardee's on Fire Tower and RT. 43).
UID:e.840.8931
SEQUENCE:3
DTSTAMP:20260421T025457Z
URL:https://business.greenvillenc.org/events/details/happy-the-pig-10-18-2018-8931
END:VEVENT

END:VCALENDAR
