BEGIN:VCALENDAR
VERSION:2.0
PRODID:-//ChamberMaster//Event Calendar 2.0//EN
METHOD:PUBLISH
X-PUBLISHED-TTL:P3D
REFRESH-INTERVAL:P3D
CALSCALE:GREGORIAN
BEGIN:VEVENT
DTSTART:20190919T220000Z
DTEND:20190920T010000Z
X-MICROSOFT-CDO-ALLDAYEVENT:FALSE
SUMMARY:Handbag Bingo
DESCRIPTION:Save the date ladies!\n\n\n\nBenefiting Cancer Services of Eastern North Carolina
X-ALT-DESC;FMTTYPE=text/html:Save the date ladies!<br />\n<br />\nBenefiting Cancer Services of Eastern North Carolina
LOCATION:Greenville Museum of Art 802 Evans St. Greenville\, NC 27834
UID:e.840.10365
SEQUENCE:3
DTSTAMP:20260420T103457Z
URL:https://business.greenvillenc.org/events/details/handbag-bingo-10365
END:VEVENT

END:VCALENDAR
