BEGIN:VCALENDAR
VERSION:2.0
PRODID:-//ChamberMaster//Event Calendar 2.0//EN
METHOD:PUBLISH
X-PUBLISHED-TTL:P3D
REFRESH-INTERVAL:P3D
CALSCALE:GREGORIAN
BEGIN:VEVENT
DTSTART:20201017T160000Z
DTEND:20201018T000000Z
X-MICROSOFT-CDO-ALLDAYEVENT:FALSE
SUMMARY:Halloween Costume Pop Up
DESCRIPTION:Join McCabe's Costumes every Saturday in October at Blue Ox Games in Greenville. We will have Halloween costumes for the entire family. We can also order your costume if we don't have it in stock.
X-ALT-DESC;FMTTYPE=text/html:Join McCabe&#39\;s Costumes every Saturday in October at Blue Ox Games in Greenville. We will have Halloween costumes for the entire family. We can also order your costume if we don&#39\;t have it in stock.
LOCATION:Blue Ox Games 2713 E. 10th St.\, Greenville\, NC
UID:e.840.11448
SEQUENCE:3
DTSTAMP:20260419T145223Z
URL:https://business.greenvillenc.org/events/details/halloween-costume-pop-up-10-17-2020-11448
END:VEVENT

END:VCALENDAR
