BEGIN:VCALENDAR
VERSION:2.0
PRODID:-//ChamberMaster//Event Calendar 2.0//EN
METHOD:PUBLISH
X-PUBLISHED-TTL:P3D
REFRESH-INTERVAL:P3D
CALSCALE:GREGORIAN
BEGIN:VEVENT
DTSTART:20190810T140000Z
DTEND:20190810T150000Z
X-MICROSOFT-CDO-ALLDAYEVENT:FALSE
SUMMARY:Growing People Starting with Me
DESCRIPTION:In order to reach your potential\, you must be intentional about personal growth. This training curriculum will help you understand how personal growth really works\, and how you can develop yourself to become a more effective and fulfilled individual. You will learn how to build up your sense of purpose and become more successful in every area of your life. Come alongside William in your growth journey to become the person you are destined to be!\n\nThis 4-week adventure consist of one-hour for the next 4 Saturdays. It will 4-ever change your life and those around you. Come see 4-yourself.\n\nSpacing is limited! First come\, first in.
X-ALT-DESC;FMTTYPE=text/html:<p>In order to reach your potential\, you must be intentional about personal growth. This training curriculum will help you understand how personal growth really works\, and how you can develop yourself to become a more effective and fulfilled individual. You will learn how to build up your sense of purpose and become more successful in every area of your life. Come alongside William in your growth journey to become the person you are destined to be!</p>\n\n<p>This 4-week adventure consist of one-hour for the next 4 Saturdays. It will 4-ever change your life and those around you. Come see 4-yourself.</p>\n\n<p>Spacing is limited! First come\, first in.</p>\n
LOCATION:This will be an online meeting using Zoom. Contact William Lanier\, email: william@willaddvalue.com
UID:e.840.10204
SEQUENCE:3
DTSTAMP:20260420T121640Z
URL:https://business.greenvillenc.org/events/details/growing-people-starting-with-me-08-10-2019-10204
END:VEVENT

END:VCALENDAR
