BEGIN:VCALENDAR
VERSION:2.0
PRODID:-//ChamberMaster//Event Calendar 2.0//EN
METHOD:PUBLISH
X-PUBLISHED-TTL:P3D
REFRESH-INTERVAL:P3D
CALSCALE:GREGORIAN
BEGIN:VEVENT
DTSTART:20200409T143000Z
DTEND:20200409T153000Z
X-MICROSOFT-CDO-ALLDAYEVENT:FALSE
SUMMARY:Grow With Google: Reach Customers Online - Online Workshop
DESCRIPTION:In this workshop\, businesses will learn how customers find them online and how to promote their business using Search Engine Optimization (SEO) and Google Ads. We'll also introduce tools to help them run their business online\, including Google My Business and Google Trends.\n\n\n\nGoogle partner hosting this event:\n\nThe Click Firm (Public)\n\nContact name:  Richard Allen (Public)\n\nContact email:  warren@clickfirm.com (Public)\n\nContact phone: (252) 902-7730 (Public)
X-ALT-DESC;FMTTYPE=text/html:<div>\n<p>In this workshop\, businesses will learn how customers find them online and how to promote their business using Search Engine Optimization (SEO) and Google Ads. We&rsquo\;ll also introduce tools to help them run their business online\, including Google My Business and Google Trends.</p>\n</div>\n\n<div>\n<h4>Google partner hosting this event:</h4>\n\n<h5>The Click Firm&nbsp\;(Public)</h5>\n\n<p>Contact name:&nbsp\;&nbsp\;Richard Allen&nbsp\;(Public)</p>\n\n<p>Contact email:&nbsp\;&nbsp\;<a href="mailto:warren@clickfirm.com">warren@clickfirm.com</a>&nbsp\;(Public)</p>\n\n<p>Contact phone:&nbsp\;(252) 902-7730&nbsp\;(Public)</p>\n</div>\n
LOCATION:Visit the link below for the hangout link and to add the event to your calendar. https://community.grow.google/s/event/a0r1E00000CPpLP
UID:e.840.11414
SEQUENCE:3
DTSTAMP:20260420T000053Z
URL:https://business.greenvillenc.org/events/details/grow-with-google-reach-customers-online-online-workshop-11414
END:VEVENT

END:VCALENDAR
