BEGIN:VCALENDAR
VERSION:2.0
PRODID:-//ChamberMaster//Event Calendar 2.0//EN
METHOD:PUBLISH
X-PUBLISHED-TTL:P3D
REFRESH-INTERVAL:P3D
CALSCALE:GREGORIAN
BEGIN:VEVENT
DTSTART:20171114T000000Z
DTEND:20171114T020000Z
X-MICROSOFT-CDO-ALLDAYEVENT:FALSE
SUMMARY:Greenville STOP Series - Pitt County Coalition on Substance Abuse
DESCRIPTION:Refreshments will be provided and there will also be presentations on the following topics:\n\n\n\nOpioids 101: Answers to your questions - What are opioids? How do they help with pain? Why are they so addictive? What about genetics? Can I use something else for pain?\n\n\n\nPersonal Stories: Hear journeys of anguish\, hope\, love\, success and loss from local families along with learning about the role of enabling and local support groups. Discover why the role family and friends play in recovery is so important.\n\n\n\nCurrent Trends: The Good Samaritan Law | Narcan | Law Enforcement Efforts | Harm Reduction
X-ALT-DESC;FMTTYPE=text/html:<span style="color:rgb(75\, 79\, 86)\; font-family:sf optimized\,system-ui\,-apple-system\,system-ui\,.sfnstext-regular\,sans-serif\; font-size:14px">Refreshments will be provided and there will also be presentations on the following topics:</span><br />\n<br />\n<span style="color:rgb(75\, 79\, 86)\; font-family:sf optimized\,system-ui\,-apple-system\,system-ui\,.sfnstext-regular\,sans-serif\; font-size:14px">Opioids 101: Answers to your questions - What are opioids? How do they help with pain? Why are they so addictive? What about genetics? Can I use something else for pain?</span><br />\n<br />\n<span style="color:rgb(75\, 79\, 86)\; font-family:sf optimized\,system-ui\,-apple-system\,system-ui\,.sfnstext-regular\,sans-serif\; font-size:14px">Personal Stories: Hear journeys of anguish\, hope\, love\, success and loss from local families along with learning about the role of enabling and local support groups. Discover why the role family and friends play in recovery is so important.</span><br />\n<br />\n<span style="color:rgb(75\, 79\, 86)\; font-family:sf optimized\,system-ui\,-apple-system\,system-ui\,.sfnstext-regular\,sans-serif\; font-size:14px">Current Trends: The Good Samaritan Law | Narcan | Law Enforcement Efforts | Harm Reduction</span>
LOCATION:First Presbyterian Church - 1400 South Elm Street\, Greenville\, NC 27858
UID:e.840.8666
SEQUENCE:3
DTSTAMP:20260423T064117Z
URL:https://business.greenvillenc.org/events/details/greenville-stop-series-pitt-county-coalition-on-substance-abuse-8666
END:VEVENT

END:VCALENDAR
