BEGIN:VCALENDAR
VERSION:2.0
PRODID:-//ChamberMaster//Event Calendar 2.0//EN
METHOD:PUBLISH
X-PUBLISHED-TTL:P3D
REFRESH-INTERVAL:P3D
CALSCALE:GREGORIAN
BEGIN:VEVENT
DTSTART:20190406T230000Z
DTEND:20190407T030000Z
X-MICROSOFT-CDO-ALLDAYEVENT:FALSE
SUMMARY:Greenville's Dancing with the Stars
DESCRIPTION:On\, April 6\, 2019\, at the Holiday Inn in Greenville\, the Lucille W. Gorham\, Inter-Generational Community Center will be holding its annual signature fundraiser event. It is entitled\, "Greenville's Dancing with the Stars."\n\nAll proceeds will go towards benefiting the core programs operated by the Center.\n\nWe will also have a kickoff event on March 15\, 2019...come out and meet the stars...free of charge!
X-ALT-DESC;FMTTYPE=text/html:<span style="font-family:calibri\,sans-serif\; font-size:11pt">On\, April 6\, 2019\, at the Holiday Inn in Greenville\, the Lucille W. Gorham\, Inter-Generational Community Center will be holding its&nbsp\;annual signature fundraiser event. It is entitled\, &quot\;Greenville&#39\;s Dancing with the Stars.&quot\;<br />\nAll proceeds will go towards benefiting the core programs operated by the Center.<br />\nWe will also have a kickoff event on March 15\, 2019...come out and meet the stars...free of charge!</span><br />\n&nbsp\;
LOCATION:Holiday Inn\, 203 SW Greenville\, Blvd\, Greenville\, NC
UID:e.840.7858
SEQUENCE:3
DTSTAMP:20260420T174935Z
URL:https://business.greenvillenc.org/events/details/greenville-s-dancing-with-the-stars-7858
END:VEVENT

END:VCALENDAR
