BEGIN:VCALENDAR
VERSION:2.0
PRODID:-//ChamberMaster//Event Calendar 2.0//EN
METHOD:PUBLISH
X-PUBLISHED-TTL:P3D
REFRESH-INTERVAL:P3D
CALSCALE:GREGORIAN
BEGIN:VEVENT
DTSTART:20151008T170000Z
DTEND:20151008T230000Z
X-MICROSOFT-CDO-ALLDAYEVENT:FALSE
SUMMARY:Greenville-Pitt County Home Builders Association Fall Golf Tournament
DESCRIPTION:Please come out and join us for a fun filled day of golf and fellowship with representatives from your local homebuilding community. There will be golf\, prizes\, and a pig picking\, we hope to see you there.
X-ALT-DESC;FMTTYPE=text/html:Please come out and join us for a fun filled day of golf and fellowship with representatives from your local homebuilding community. There will be golf\, prizes\, and a pig picking\, we hope to see you there.&nbsp\;
LOCATION:IronWood Country Club
UID:e.840.1934
SEQUENCE:3
DTSTAMP:20260424T194956Z
URL:https://business.greenvillenc.org/events/details/greenville-pitt-county-home-builders-association-fall-golf-tournament-10-08-2015-1934
END:VEVENT

END:VCALENDAR
