BEGIN:VCALENDAR
VERSION:2.0
PRODID:-//ChamberMaster//Event Calendar 2.0//EN
METHOD:PUBLISH
X-PUBLISHED-TTL:P3D
REFRESH-INTERVAL:P3D
CALSCALE:GREGORIAN
BEGIN:VEVENT
DTSTART:20161206T163000Z
DTEND:20161206T190000Z
X-MICROSOFT-CDO-ALLDAYEVENT:FALSE
SUMMARY:Greenville NC Bite Size Tech Tour
DESCRIPTION:Make it your business to join us for a deliciously informative Lunch and Learn. Tuesday\, December 6 from 11:30 a.m.   2:00 p.m. at The Martinsborough\, 330 Evans St. in Greenville\, NC. Our technology partners will demo and discuss U.S. Cellular's proven and affordable business solutions.Please RSVP by November 28 Text RSVPGREENVILLE to 68188 or visit uscellular.com/bitesizeGreenvilleRSVP.* Complimentary Parking Fourth Street Garage 165 E. Fourth St. Can't Make December 6? Call us at 1-828-777-3634 for a complimentary consultation. *One text message per request\; message & data rates may apply. Reply HELP for help. For Terms & Conditions and Privacy Policy\, visit uscellular.com/privacy.
X-ALT-DESC;FMTTYPE=text/html:Make it your business to join us for a deliciously informative Lunch and Learn. Tuesday\, December 6 from 11:30 a.m. &ndash\; 2:00 p.m. at The Martinsborough\, 330 Evans St. in Greenville\, NC. Our technology partners will demo and discuss U.S. Cellular&rsquo\;s proven and affordable business solutions.Please RSVP by November 28 Text RSVPGREENVILLE to 68188 or visit uscellular.com/bitesizeGreenvilleRSVP.* Complimentary Parking Fourth Street Garage 165 E. Fourth St. Can&rsquo\;t Make December 6? Call us at 1-828-777-3634 for a complimentary consultation. *One text message per request\; message &amp\; data rates may apply. Reply HELP for help. For Terms &amp\; Conditions and Privacy Policy\, visit uscellular.com/privacy.
LOCATION:The Martinsborough - 330 Evans St. in Greenville\, NC
UID:e.840.7706
SEQUENCE:3
DTSTAMP:20260423T221933Z
URL:https://business.greenvillenc.org/events/details/greenville-nc-bite-size-tech-tour-7706
END:VEVENT

END:VCALENDAR
