BEGIN:VCALENDAR
VERSION:2.0
PRODID:-//ChamberMaster//Event Calendar 2.0//EN
METHOD:PUBLISH
X-PUBLISHED-TTL:P3D
REFRESH-INTERVAL:P3D
CALSCALE:GREGORIAN
BEGIN:VEVENT
DTSTART:20161028T220000Z
DTEND:20161029T010000Z
X-MICROSOFT-CDO-ALLDAYEVENT:FALSE
SUMMARY:Greenville Museum of Art's Halloweeni Artini
DESCRIPTION:Fun martini party featuring a signature martini with spooky music from DJ\, Ken Smith\, NCADA girls perform "Thriller\," Costume Contest\, great food from area restaurants\, and Golden Jackpot Raffle tickets sold for a chance to win $10\,000 or 1/3 of pot.
X-ALT-DESC;FMTTYPE=text/html:Fun martini party featuring a signature martini with spooky music from DJ\, Ken Smith\, NCADA girls perform &quot\;Thriller\,&quot\; Costume Contest\, great food from area restaurants\, and Golden Jackpot Raffle tickets sold for a chance to win $10\,000 or 1/3 of pot.
LOCATION:Greenville Museum of Art 802 South Evans Street Greenville\, NC 27834
UID:e.840.6291
SEQUENCE:3
DTSTAMP:20260424T011127Z
URL:https://business.greenvillenc.org/events/details/greenville-museum-of-art-s-halloweeni-artini-6291
END:VEVENT

END:VCALENDAR
