BEGIN:VCALENDAR
VERSION:2.0
PRODID:-//ChamberMaster//Event Calendar 2.0//EN
METHOD:PUBLISH
X-PUBLISHED-TTL:P3D
REFRESH-INTERVAL:P3D
CALSCALE:GREGORIAN
BEGIN:VEVENT
DTSTART:20180217T230000Z
DTEND:20180218T030000Z
X-MICROSOFT-CDO-ALLDAYEVENT:FALSE
SUMMARY:Greenville Choral Society Gala: The Great American Songbook
DESCRIPTION:You are cordially invited to join the Greenville Choral Society for our annual black tie Gala\, The Great American Songbook. The evening will begin with a social hour with a performance by local jazz musicians\, a cash bar\, and a silent auction. Dinner will be served at 7:00\, and of course\, will include performances by the Greenville Choral Society Choir. Featured pieces are Blue Skies\, What a Wonderful World\, Caravan\, and more!\n\nTickets are on sale now through February 10th.
X-ALT-DESC;FMTTYPE=text/html:<div style="text-align:center"><span style="font-size:16px"><span style="background-color:rgb(204\, 202\, 198)\; color:rgb(63\, 63\, 63)\; font-family:actor"><span style="font-family:tahoma">You are cordially invited to join the Greenville Choral Society for our annual black tie Gala\, <em>The Great American Songbook</em>. The evening will begin with a social hour with a performance by local jazz musicians\, a cash bar\, and a silent auction. Dinner will be served at 7:00\, and of course\, will include performances by the Greenville Choral Society Choir. Featured pieces are <em>Blue Skies</em>\, <em>What a Wonderful World</em>\,<em> Caravan</em>\, and more!<br />\nTickets are on sale now through February 10th.</span></span></span></div>\n
LOCATION:Holiday Inn of Greenville\, NC 203 Greenville Blvd. Greenville\, NC 27834
UID:e.840.8691
SEQUENCE:3
DTSTAMP:20260423T020221Z
URL:https://business.greenvillenc.org/events/details/greenville-choral-society-gala-the-great-american-songbook-8691
END:VEVENT

END:VCALENDAR
