BEGIN:VCALENDAR
VERSION:2.0
PRODID:-//ChamberMaster//Event Calendar 2.0//EN
METHOD:PUBLISH
X-PUBLISHED-TTL:P3D
REFRESH-INTERVAL:P3D
CALSCALE:GREGORIAN
BEGIN:VEVENT
DTSTART:20171217T000000Z
DTEND:20171217T010000Z
X-MICROSOFT-CDO-ALLDAYEVENT:FALSE
SUMMARY:Greenville Choral Society - Concert Choir presents Hodie (A Christmas Cantata) by Ralph Vaughan Williams
DESCRIPTION:Hodie (A Christmas Cantata)\n\nby Ralph Vaughan Williams\n\n\n\nJames Franklin\, conductor\n\nNicole Franklin\, soprano\n\nDaniel Shirley\, tenor\n\nJohn Kramar\, baritone
X-ALT-DESC;FMTTYPE=text/html:<div style="text-align:center"><span style="font-family:tahoma"><span style="font-size:16px"><em>Hodie (A Christmas Cantata)</em><br />\nby Ralph Vaughan Williams</span><br />\n<br />\nJames Franklin\, conductor<br />\nNicole Franklin\, soprano<br />\nDaniel Shirley\, tenor<br />\nJohn Kramar\, baritone</span></div>\n
LOCATION:The Memorial Baptist Church 1510 Greenville Blvd. Greenville\, NC 27858
UID:e.840.8687
SEQUENCE:3
DTSTAMP:20260423T051003Z
URL:https://business.greenvillenc.org/events/details/greenville-choral-society-concert-choir-presents-hodie-a-christmas-cantata-by-ralph-vaughan-williams-8687
END:VEVENT

END:VCALENDAR
