BEGIN:VCALENDAR
VERSION:2.0
PRODID:-//ChamberMaster//Event Calendar 2.0//EN
METHOD:PUBLISH
X-PUBLISHED-TTL:P3D
REFRESH-INTERVAL:P3D
CALSCALE:GREGORIAN
BEGIN:VEVENT
DTSTART:20171209T190000Z
DTEND:20171209T200000Z
X-MICROSOFT-CDO-ALLDAYEVENT:FALSE
SUMMARY:Greenville Choral Society - Children's Choir and Youth Choral Concert
DESCRIPTION:Holiday Concert\n\nChildren's Choir (Grades 4-8)\n\nPaul Flowers\, conductor\n\n\n\nYouth Chorale (Grades 9-12)\n\nLuke Hancock\, conductor
X-ALT-DESC;FMTTYPE=text/html:<div style="text-align:center"><em><span style="font-size:18px">Holiday Concert</span></em><br />\nChildren&#39\;s Choir (Grades 4-8)<br />\nPaul Flowers\, conductor<br />\n<br />\nYouth Chorale (Grades 9-12)<br />\nLuke Hancock\, conductor</div>\n
LOCATION:The Memorial Baptist Church 1510 Greenville Blvd Greenville\, NC 27858
UID:e.840.8686
SEQUENCE:3
DTSTAMP:20260423T050029Z
URL:https://business.greenvillenc.org/events/details/greenville-choral-society-children-s-choir-and-youth-choral-concert-8686
END:VEVENT

END:VCALENDAR
